| Back to Multiple platform build/check report for BioC 3.9 |
|
This page was generated on 2019-04-09 12:30:58 -0400 (Tue, 09 Apr 2019).
| Package 953/1703 | Hostname | OS / Arch | INSTALL | BUILD | CHECK | BUILD BIN | ||||||
| metavizr 1.7.1 Hector Corrada Bravo
| malbec2 | Linux (Ubuntu 18.04.2 LTS) / x86_64 | OK | OK | OK | |||||||
| tokay2 | Windows Server 2012 R2 Standard / x64 | [ OK ] | OK | WARNINGS | OK | |||||||
| celaya2 | OS X 10.11.6 El Capitan / x86_64 | OK | OK | OK | OK | |||||||
| merida2 | OS X 10.11.6 El Capitan / x86_64 | OK | OK | OK | OK |
| Package: metavizr |
| Version: 1.7.1 |
| Command: C:\cygwin\bin\curl.exe -O https://malbec2.bioconductor.org/BBS/3.9/bioc/src/contrib/metavizr_1.7.1.tar.gz && rm -rf metavizr.buildbin-libdir && mkdir metavizr.buildbin-libdir && C:\Users\biocbuild\bbs-3.9-bioc\R\bin\R.exe CMD INSTALL --merge-multiarch --build --library=metavizr.buildbin-libdir metavizr_1.7.1.tar.gz && C:\Users\biocbuild\bbs-3.9-bioc\R\bin\R.exe CMD INSTALL metavizr_1.7.1.zip && rm metavizr_1.7.1.tar.gz metavizr_1.7.1.zip |
| StartedAt: 2019-04-08 20:26:56 -0400 (Mon, 08 Apr 2019) |
| EndedAt: 2019-04-08 20:28:34 -0400 (Mon, 08 Apr 2019) |
| EllapsedTime: 97.9 seconds |
| RetCode: 0 |
| Status: OK |
##############################################################################
##############################################################################
###
### Running command:
###
### C:\cygwin\bin\curl.exe -O https://malbec2.bioconductor.org/BBS/3.9/bioc/src/contrib/metavizr_1.7.1.tar.gz && rm -rf metavizr.buildbin-libdir && mkdir metavizr.buildbin-libdir && C:\Users\biocbuild\bbs-3.9-bioc\R\bin\R.exe CMD INSTALL --merge-multiarch --build --library=metavizr.buildbin-libdir metavizr_1.7.1.tar.gz && C:\Users\biocbuild\bbs-3.9-bioc\R\bin\R.exe CMD INSTALL metavizr_1.7.1.zip && rm metavizr_1.7.1.tar.gz metavizr_1.7.1.zip
###
##############################################################################
##############################################################################
% Total % Received % Xferd Average Speed Time Time Time Current
Dload Upload Total Spent Left Speed
0 0 0 0 0 0 0 0 --:--:-- --:--:-- --:--:-- 0
100 1185k 100 1185k 0 0 8006k 0 --:--:-- --:--:-- --:--:-- 8405k
install for i386
* installing *source* package 'metavizr' ...
** R
** inst
** byte-compile and prepare package for lazy loading
Warning: replacing previous import 'S4Vectors::as.data.frame' by 'git2r::as.data.frame' when loading 'epivizrStandalone'
Warning: replacing previous import 'S4Vectors::head' by 'git2r::head' when loading 'epivizrStandalone'
Warning: replacing previous import 'S4Vectors::merge' by 'git2r::merge' when loading 'epivizrStandalone'
** help
*** installing help indices
converting help for package 'metavizr'
finding HTML links ... done
EpivizMetagenomicsData-class html
EpivizMetagenomicsDataInnerNodes-class
html
EpivizMetagenomicsDataTimeSeries-class
html
MetavizApp-class html
MetavizGraph-class html
MetavizGraphInnerNodes-class html
buildMetavizGraph html
buildMetavizGraphInnerNodes html
generateSelection html
metavizControl html
register-MRexperiment-method html
register-phyloseq-method html
finding level-2 HTML links ... done
replaceNAFeatures html
setMetavizStandalone html
startMetaviz html
Rd warning: C:/Users/biocbuild/bbs-3.9-bioc/tmpdir/Rtmp8kpt73/R.INSTALL1d9c46e56dca/metavizr/man/startMetaviz.Rd:5: file link 'MetavizApp' in package 'metavizr' does not exist and so has been treated as a topic
Rd warning: C:/Users/biocbuild/bbs-3.9-bioc/tmpdir/Rtmp8kpt73/R.INSTALL1d9c46e56dca/metavizr/man/startMetaviz.Rd:21: file link 'MetavizApp' in package 'metavizr' does not exist and so has been treated as a topic
Rd warning: C:/Users/biocbuild/bbs-3.9-bioc/tmpdir/Rtmp8kpt73/R.INSTALL1d9c46e56dca/metavizr/man/startMetaviz.Rd:18: file link 'MetavizApp' in package 'metavizr' does not exist and so has been treated as a topic
Rd warning: C:/Users/biocbuild/bbs-3.9-bioc/tmpdir/Rtmp8kpt73/R.INSTALL1d9c46e56dca/metavizr/man/startMetaviz.Rd:30: file link 'MetavizApp' in package 'metavizr' does not exist and so has been treated as a topic
startMetavizStandalone html
Rd warning: C:/Users/biocbuild/bbs-3.9-bioc/tmpdir/Rtmp8kpt73/R.INSTALL1d9c46e56dca/metavizr/man/startMetavizStandalone.Rd:5: file link 'MetavizApp' in package 'metavizr' does not exist and so has been treated as a topic
Rd warning: C:/Users/biocbuild/bbs-3.9-bioc/tmpdir/Rtmp8kpt73/R.INSTALL1d9c46e56dca/metavizr/man/startMetavizStandalone.Rd:22: file link 'MetavizApp' in package 'metavizr' does not exist and so has been treated as a topic
validateObject html
** building package indices
** installing vignettes
** testing if installed package can be loaded from temporary location
Warning: replacing previous import 'S4Vectors::as.data.frame' by 'git2r::as.data.frame' when loading 'epivizrStandalone'
Warning: replacing previous import 'S4Vectors::head' by 'git2r::head' when loading 'epivizrStandalone'
Warning: replacing previous import 'S4Vectors::merge' by 'git2r::merge' when loading 'epivizrStandalone'
** testing if installed package can be loaded from final location
Warning: replacing previous import 'S4Vectors::as.data.frame' by 'git2r::as.data.frame' when loading 'epivizrStandalone'
Warning: replacing previous import 'S4Vectors::head' by 'git2r::head' when loading 'epivizrStandalone'
Warning: replacing previous import 'S4Vectors::merge' by 'git2r::merge' when loading 'epivizrStandalone'
** testing if installed package keeps a record of temporary installation path
install for x64
* installing *source* package 'metavizr' ...
** testing if installed package can be loaded
Warning: replacing previous import 'S4Vectors::merge' by 'git2r::merge' when loading 'epivizrStandalone'
Warning: replacing previous import 'S4Vectors::head' by 'git2r::head' when loading 'epivizrStandalone'
Warning: replacing previous import 'S4Vectors::as.data.frame' by 'git2r::as.data.frame' when loading 'epivizrStandalone'
* MD5 sums
packaged installation of 'metavizr' as metavizr_1.7.1.zip
* DONE (metavizr)
* installing to library 'C:/Users/biocbuild/bbs-3.9-bioc/R/library'
package 'metavizr' successfully unpacked and MD5 sums checked