| Back to Multiple platform build/check report for BioC 3.9 | 
 | 
This page was generated on 2019-04-09 13:28:04 -0400 (Tue, 09 Apr 2019).
| Package 947/1703 | Hostname | OS / Arch | INSTALL | BUILD | CHECK | BUILD BIN | ||||||
| metagenomeSeq 1.25.3 Joseph N. Paulson 
 | malbec2 | Linux (Ubuntu 18.04.2 LTS) / x86_64 | OK | ERROR | skipped | |||||||
| tokay2 | Windows Server 2012 R2 Standard / x64 | OK | ERROR | skipped | skipped | |||||||
| celaya2 | OS X 10.11.6 El Capitan / x86_64 | OK | ERROR | skipped | skipped | |||||||
| merida2 | OS X 10.11.6 El Capitan / x86_64 | OK | OK | OK | [ OK ] | 
| Package: metagenomeSeq | 
| Version: 1.25.3 | 
| Command: rm -rf metagenomeSeq.buildbin-libdir && mkdir metagenomeSeq.buildbin-libdir && /Users/biocbuild/BBS/utils/build-universal.sh metagenomeSeq_1.25.3.tar.gz /Library/Frameworks/R.framework/Versions/Current/Resources/bin/R metagenomeSeq.buildbin-libdir | 
| StartedAt: 2019-04-09 05:50:06 -0400 (Tue, 09 Apr 2019) | 
| EndedAt: 2019-04-09 05:51:21 -0400 (Tue, 09 Apr 2019) | 
| EllapsedTime: 75.1 seconds | 
| RetCode: 0 | 
| Status: OK | 
| PackageFile: metagenomeSeq_1.25.3.tgz | 
| PackageFileSize: 1.995 MiB | 
############################################################################## ############################################################################## ### ### Running command: ### ### rm -rf metagenomeSeq.buildbin-libdir && mkdir metagenomeSeq.buildbin-libdir && /Users/biocbuild/BBS/utils/build-universal.sh metagenomeSeq_1.25.3.tar.gz /Library/Frameworks/R.framework/Versions/Current/Resources/bin/R metagenomeSeq.buildbin-libdir ### ############################################################################## ############################################################################## >>>>>>> >>>>>>> INSTALLATION WITH 'R CMD INSTALL --preclean --no-multiarch --library=metagenomeSeq.buildbin-libdir metagenomeSeq_1.25.3.tar.gz' >>>>>>> * installing *source* package ‘metagenomeSeq’ ... ** R ** data ** inst ** byte-compile and prepare package for lazy loading ** help *** installing help indices ** building package indices ** installing vignettes ** testing if installed package can be loaded * DONE (metagenomeSeq)