Back to Multiple platform build/check report for BioC 3.9
ABCDEFGHIJKL[M]NOPQRSTUVWXYZ

Multiple platform build/check report for BioC 3.9

Results for metagenomeSeq

This page was generated on 2019-04-09 11:18:39 -0400 (Tue, 09 Apr 2019).

Package 947/1703HostnameOS / ArchINSTALLBUILDCHECKBUILD BIN
metagenomeSeq 1.25.3
Joseph N. Paulson
Snapshot Date: 2019-04-08 17:01:18 -0400 (Mon, 08 Apr 2019)
URL: https://git.bioconductor.org/packages/metagenomeSeq
Branch: master
Last Commit: 237560f
Last Changed Date: 2019-02-27 10:35:57 -0400 (Wed, 27 Feb 2019)
malbec2 Linux (Ubuntu 18.04.2 LTS) / x86_64  OK  ERROR  skipped 
tokay2 Windows Server 2012 R2 Standard / x64  OK  ERROR  skipped  skipped 
celaya2 OS X 10.11.6 El Capitan / x86_64  OK  ERROR  skipped  skipped 
merida2 OS X 10.11.6 El Capitan / x86_64  OK  OK  OK  OK