| Back to Multiple platform build/check report for BioC 3.9 |
|
This page was generated on 2019-04-09 12:14:13 -0400 (Tue, 09 Apr 2019).
| Package 951/1703 | Hostname | OS / Arch | INSTALL | BUILD | CHECK | BUILD BIN | ||||||
| metaSeq 1.23.1 Koki Tsuyuzaki
| malbec2 | Linux (Ubuntu 18.04.2 LTS) / x86_64 | OK | OK | OK | |||||||
| tokay2 | Windows Server 2012 R2 Standard / x64 | OK | OK | OK | [ OK ] | |||||||
| celaya2 | OS X 10.11.6 El Capitan / x86_64 | OK | OK | OK | OK | |||||||
| merida2 | OS X 10.11.6 El Capitan / x86_64 | OK | OK | OK | OK |
| Package: metaSeq |
| Version: 1.23.1 |
| Command: rm -rf metaSeq.buildbin-libdir && mkdir metaSeq.buildbin-libdir && C:\Users\biocbuild\bbs-3.9-bioc\R\bin\R.exe CMD INSTALL --merge-multiarch --build --library=metaSeq.buildbin-libdir metaSeq_1.23.1.tar.gz |
| StartedAt: 2019-04-09 08:26:35 -0400 (Tue, 09 Apr 2019) |
| EndedAt: 2019-04-09 08:27:19 -0400 (Tue, 09 Apr 2019) |
| EllapsedTime: 44.5 seconds |
| RetCode: 0 |
| Status: OK |
| PackageFile: metaSeq_1.23.1.zip |
| PackageFileSize: 6.102 MiB |
##############################################################################
##############################################################################
###
### Running command:
###
### rm -rf metaSeq.buildbin-libdir && mkdir metaSeq.buildbin-libdir && C:\Users\biocbuild\bbs-3.9-bioc\R\bin\R.exe CMD INSTALL --merge-multiarch --build --library=metaSeq.buildbin-libdir metaSeq_1.23.1.tar.gz
###
##############################################################################
##############################################################################
install for i386
* installing *source* package 'metaSeq' ...
** R
** data
** inst
** byte-compile and prepare package for lazy loading
** help
*** installing help indices
converting help for package 'metaSeq'
finding HTML links ... done
Accelerate.NOISeq html
BreastCancer html
Fisher.test html
Reset.Accelerate.NOISeq html
Result.Meta html
Stouffer.test html
StudyA html
meta.oneside.noiseq html
meta.readData html
metaSeq-package html
other.oneside.pvalues html
pvals html
text.busca_unix html
text.busca_win html
text.n.menor_unix html
text.n.menor_win html
** building package indices
** installing vignettes
** testing if installed package can be loaded from temporary location
** testing if installed package can be loaded from final location
** testing if installed package keeps a record of temporary installation path
install for x64
* installing *source* package 'metaSeq' ...
** testing if installed package can be loaded
* MD5 sums
packaged installation of 'metaSeq' as metaSeq_1.23.1.zip
* DONE (metaSeq)