| Back to Multiple platform build/check report for BioC 3.9 | 
 | 
This page was generated on 2019-04-09 12:51:15 -0400 (Tue, 09 Apr 2019).
| Package 939/1703 | Hostname | OS / Arch | INSTALL | BUILD | CHECK | BUILD BIN | ||||||
| metaArray 1.61.0 Hyungwon Choi 
 | malbec2 | Linux (Ubuntu 18.04.2 LTS) / x86_64 | OK | OK | OK |  | ||||||
| tokay2 | Windows Server 2012 R2 Standard / x64 | OK | OK | OK | OK |  | ||||||
| celaya2 | OS X 10.11.6 El Capitan / x86_64 | [ OK ] | OK | OK | OK |  | ||||||
| merida2 | OS X 10.11.6 El Capitan / x86_64 | OK | OK | OK | OK | 
| Package: metaArray | 
| Version: 1.61.0 | 
| Command: /Library/Frameworks/R.framework/Versions/Current/Resources/bin/R CMD INSTALL metaArray | 
| StartedAt: 2019-04-08 18:18:59 -0400 (Mon, 08 Apr 2019) | 
| EndedAt: 2019-04-08 18:19:42 -0400 (Mon, 08 Apr 2019) | 
| EllapsedTime: 42.4 seconds | 
| RetCode: 0 | 
| Status: OK | 
##############################################################################
##############################################################################
###
### Running command:
###
###   /Library/Frameworks/R.framework/Versions/Current/Resources/bin/R CMD INSTALL metaArray
###
##############################################################################
##############################################################################
* installing to library ‘/Library/Frameworks/R.framework/Versions/3.6/Resources/library’
* installing *source* package ‘metaArray’ ...
** using staged installation
** libs
clang -I"/Library/Frameworks/R.framework/Resources/include" -DNDEBUG   -I/usr/local/include -DUSEDOUBLE -fPIC  -Wall -g -O2  -c contr.c -o contr.o
clang -I"/Library/Frameworks/R.framework/Resources/include" -DNDEBUG   -I/usr/local/include -DUSEDOUBLE -fPIC  -Wall -g -O2  -c dproc.c -o dproc.o
dproc.c:192:16: warning: unused variable 'nc' [-Wunused-variable]
  int num, nr, nc;
               ^
1 warning generated.
clang -I"/Library/Frameworks/R.framework/Resources/include" -DNDEBUG   -I/usr/local/include -DUSEDOUBLE -fPIC  -Wall -g -O2  -c dproc2.c -o dproc2.o
clang -I"/Library/Frameworks/R.framework/Resources/include" -DNDEBUG   -I/usr/local/include -DUSEDOUBLE -fPIC  -Wall -g -O2  -c intcor.c -o intcor.o
clang -I"/Library/Frameworks/R.framework/Resources/include" -DNDEBUG   -I/usr/local/include -DUSEDOUBLE -fPIC  -Wall -g -O2  -c lowess.c -o lowess.o
clang -I"/Library/Frameworks/R.framework/Resources/include" -DNDEBUG   -I/usr/local/include -DUSEDOUBLE -fPIC  -Wall -g -O2  -c mmath.c -o mmath.o
clang -I"/Library/Frameworks/R.framework/Resources/include" -DNDEBUG   -I/usr/local/include -DUSEDOUBLE -fPIC  -Wall -g -O2  -c perm.c -o perm.o
clang -I"/Library/Frameworks/R.framework/Resources/include" -DNDEBUG   -I/usr/local/include -DUSEDOUBLE -fPIC  -Wall -g -O2  -c poe.c -o poe.o
clang -dynamiclib -Wl,-headerpad_max_install_names -undefined dynamic_lookup -single_module -multiply_defined suppress -L/Library/Frameworks/R.framework/Resources/lib -L/usr/local/lib -o metaArray.so contr.o dproc.o dproc2.o intcor.o lowess.o mmath.o perm.o poe.o -lm -F/Library/Frameworks/R.framework/.. -framework R -Wl,-framework -Wl,CoreFoundation
installing to /Library/Frameworks/R.framework/Versions/3.6/Resources/library/00LOCK-metaArray/00new/metaArray/libs
** R
** data
** byte-compile and prepare package for lazy loading
** help
*** installing help indices
** building package indices
** installing vignettes
** testing if installed package can be loaded from temporary location
** checking absolute paths in shared objects and dynamic libraries
** testing if installed package can be loaded from final location
** testing if installed package keeps a record of temporary installation path
* DONE (metaArray)