| Back to Multiple platform build/check report for BioC 3.9 |
|
This page was generated on 2019-04-09 11:59:09 -0400 (Tue, 09 Apr 2019).
| Package 919/1703 | Hostname | OS / Arch | INSTALL | BUILD | CHECK | BUILD BIN | ||||||
| mcaGUI 1.31.0 Wade K. Copeland
| malbec2 | Linux (Ubuntu 18.04.2 LTS) / x86_64 | OK | OK | WARNINGS | |||||||
| tokay2 | Windows Server 2012 R2 Standard / x64 | [ OK ] | OK | WARNINGS | OK | |||||||
| celaya2 | OS X 10.11.6 El Capitan / x86_64 | OK | OK | WARNINGS | OK | |||||||
| merida2 | OS X 10.11.6 El Capitan / x86_64 | OK | OK | WARNINGS | OK |
| Package: mcaGUI |
| Version: 1.31.0 |
| Command: C:\cygwin\bin\curl.exe -O https://malbec2.bioconductor.org/BBS/3.9/bioc/src/contrib/mcaGUI_1.31.0.tar.gz && rm -rf mcaGUI.buildbin-libdir && mkdir mcaGUI.buildbin-libdir && C:\Users\biocbuild\bbs-3.9-bioc\R\bin\R.exe CMD INSTALL --merge-multiarch --build --library=mcaGUI.buildbin-libdir mcaGUI_1.31.0.tar.gz && C:\Users\biocbuild\bbs-3.9-bioc\R\bin\R.exe CMD INSTALL mcaGUI_1.31.0.zip && rm mcaGUI_1.31.0.tar.gz mcaGUI_1.31.0.zip |
| StartedAt: 2019-04-08 19:59:21 -0400 (Mon, 08 Apr 2019) |
| EndedAt: 2019-04-08 20:01:11 -0400 (Mon, 08 Apr 2019) |
| EllapsedTime: 110.1 seconds |
| RetCode: 0 |
| Status: OK |
##############################################################################
##############################################################################
###
### Running command:
###
### C:\cygwin\bin\curl.exe -O https://malbec2.bioconductor.org/BBS/3.9/bioc/src/contrib/mcaGUI_1.31.0.tar.gz && rm -rf mcaGUI.buildbin-libdir && mkdir mcaGUI.buildbin-libdir && C:\Users\biocbuild\bbs-3.9-bioc\R\bin\R.exe CMD INSTALL --merge-multiarch --build --library=mcaGUI.buildbin-libdir mcaGUI_1.31.0.tar.gz && C:\Users\biocbuild\bbs-3.9-bioc\R\bin\R.exe CMD INSTALL mcaGUI_1.31.0.zip && rm mcaGUI_1.31.0.tar.gz mcaGUI_1.31.0.zip
###
##############################################################################
##############################################################################
% Total % Received % Xferd Average Speed Time Time Time Current
Dload Upload Total Spent Left Speed
0 0 0 0 0 0 0 0 --:--:-- --:--:-- --:--:-- 0
100 2215k 100 2215k 0 0 28.0M 0 --:--:-- --:--:-- --:--:-- 30.9M
install for i386
* installing *source* package 'mcaGUI' ...
** R
** inst
** byte-compile and prepare package for lazy loading
Note: ... may be used in an incorrect context
** help
*** installing help indices
converting help for package 'mcaGUI'
finding HTML links ... done
mcaGUI html
mcaGUIpackage html
mcaGUIundocumented html
pmgDynamic html
pmgRepeatTrials html
** building package indices
** installing vignettes
** testing if installed package can be loaded from temporary location
Loading mcaGUI()
[1] "You can access the mcaGUI vignette by browsing to: "
[1] ""
GUI requires an interactive environment
** testing if installed package can be loaded from final location
Loading mcaGUI()
[1] "You can access the mcaGUI vignette by browsing to: "
[1] ""
GUI requires an interactive environment
** testing if installed package keeps a record of temporary installation path
install for x64
* installing *source* package 'mcaGUI' ...
** testing if installed package can be loaded
Loading mcaGUI()
[1] "You can access the mcaGUI vignette by browsing to: "
[1] ""
GUI requires an interactive environment
* MD5 sums
packaged installation of 'mcaGUI' as mcaGUI_1.31.0.zip
* DONE (mcaGUI)
* installing to library 'C:/Users/biocbuild/bbs-3.9-bioc/R/library'
package 'mcaGUI' successfully unpacked and MD5 sums checked