Back to Multiple platform build/check report for BioC 3.9 |
|
This page was generated on 2019-04-09 12:00:11 -0400 (Tue, 09 Apr 2019).
Package 896/1703 | Hostname | OS / Arch | INSTALL | BUILD | CHECK | BUILD BIN | ||||||
manta 1.29.1 Chris Berthiaume
| malbec2 | Linux (Ubuntu 18.04.2 LTS) / x86_64 | OK | OK | OK | ![]() | ||||||
tokay2 | Windows Server 2012 R2 Standard / x64 | OK | OK | OK | [ OK ] | ![]() | ||||||
celaya2 | OS X 10.11.6 El Capitan / x86_64 | OK | OK | OK | OK | ![]() | ||||||
merida2 | OS X 10.11.6 El Capitan / x86_64 | OK | OK | OK | OK |
Package: manta |
Version: 1.29.1 |
Command: rm -rf manta.buildbin-libdir && mkdir manta.buildbin-libdir && C:\Users\biocbuild\bbs-3.9-bioc\R\bin\R.exe CMD INSTALL --merge-multiarch --build --library=manta.buildbin-libdir manta_1.29.1.tar.gz |
StartedAt: 2019-04-09 08:23:10 -0400 (Tue, 09 Apr 2019) |
EndedAt: 2019-04-09 08:23:52 -0400 (Tue, 09 Apr 2019) |
EllapsedTime: 42.2 seconds |
RetCode: 0 |
Status: OK |
PackageFile: manta_1.29.1.zip |
PackageFileSize: 2.109 MiB |
############################################################################## ############################################################################## ### ### Running command: ### ### rm -rf manta.buildbin-libdir && mkdir manta.buildbin-libdir && C:\Users\biocbuild\bbs-3.9-bioc\R\bin\R.exe CMD INSTALL --merge-multiarch --build --library=manta.buildbin-libdir manta_1.29.1.tar.gz ### ############################################################################## ############################################################################## install for i386 * installing *source* package 'manta' ... ** R ** inst ** byte-compile and prepare package for lazy loading ** help *** installing help indices converting help for package 'manta' finding HTML links ... done cmdArgsToVariables html collapseRepliCounts html compbiasPlot html compbiasTest html generateWeights html in2manta html makeSampleDF html manta-class html manta html meta2counts html metataxa2subcounts html nf2nr html normfact2absTMM html nr html outliers html plot.manta html pplacer2manta html readSeastar html seastar2counts html summary.manta html ** building package indices ** installing vignettes ** testing if installed package can be loaded from temporary location ** testing if installed package can be loaded from final location ** testing if installed package keeps a record of temporary installation path install for x64 * installing *source* package 'manta' ... ** testing if installed package can be loaded * MD5 sums packaged installation of 'manta' as manta_1.29.1.zip * DONE (manta)