| Back to Multiple platform build/check report for BioC 3.9 | 
 | 
This page was generated on 2019-04-09 12:50:45 -0400 (Tue, 09 Apr 2019).
| Package 884/1703 | Hostname | OS / Arch | INSTALL | BUILD | CHECK | BUILD BIN | ||||||
| maanova 1.53.0 Keith Sheppard 
 | malbec2 | Linux (Ubuntu 18.04.2 LTS) / x86_64 | OK | OK | OK |  | ||||||
| tokay2 | Windows Server 2012 R2 Standard / x64 | OK | OK | OK | OK |  | ||||||
| celaya2 | OS X 10.11.6 El Capitan / x86_64 | OK | [ OK ] | WARNINGS | OK |  | ||||||
| merida2 | OS X 10.11.6 El Capitan / x86_64 | OK | OK | WARNINGS | OK | 
| Package: maanova | 
| Version: 1.53.0 | 
| Command: /Library/Frameworks/R.framework/Versions/Current/Resources/bin/R CMD build --keep-empty-dirs --no-resave-data maanova | 
| StartedAt: 2019-04-08 19:31:09 -0400 (Mon, 08 Apr 2019) | 
| EndedAt: 2019-04-08 19:31:29 -0400 (Mon, 08 Apr 2019) | 
| EllapsedTime: 20.0 seconds | 
| RetCode: 0 | 
| Status: OK | 
| PackageFile: maanova_1.53.0.tar.gz | 
| PackageFileSize: 1.123 MiB | 
############################################################################## ############################################################################## ### ### Running command: ### ### /Library/Frameworks/R.framework/Versions/Current/Resources/bin/R CMD build --keep-empty-dirs --no-resave-data maanova ### ############################################################################## ############################################################################## * checking for file ‘maanova/DESCRIPTION’ ... OK * preparing ‘maanova’: * checking DESCRIPTION meta-information ... OK * cleaning src * installing the package to build vignettes * creating vignettes ... OK * cleaning src * checking for LF line-endings in source and make files and shell scripts * checking for empty or unneeded directories * looking to see if a ‘data/datalist’ file should be added * building ‘maanova_1.53.0.tar.gz’