| Back to Multiple platform build/check report for BioC 3.9 | 
 | 
This page was generated on 2019-04-09 11:54:39 -0400 (Tue, 09 Apr 2019).
| Package 904/1703 | Hostname | OS / Arch | INSTALL | BUILD | CHECK | BUILD BIN | ||||||
| maSigPro 1.55.0 Maria Jose Nueda 
 | malbec2 | Linux (Ubuntu 18.04.2 LTS) / x86_64 | OK | OK | OK |  | ||||||
| tokay2 | Windows Server 2012 R2 Standard / x64 | OK | OK | OK | [ OK ] |  | ||||||
| celaya2 | OS X 10.11.6 El Capitan / x86_64 | OK | OK | OK | OK |  | ||||||
| merida2 | OS X 10.11.6 El Capitan / x86_64 | OK | OK | OK | OK | 
| Package: maSigPro | 
| Version: 1.55.0 | 
| Command: rm -rf maSigPro.buildbin-libdir && mkdir maSigPro.buildbin-libdir && C:\Users\biocbuild\bbs-3.9-bioc\R\bin\R.exe CMD INSTALL --merge-multiarch --build --library=maSigPro.buildbin-libdir maSigPro_1.55.0.tar.gz | 
| StartedAt: 2019-04-09 08:23:40 -0400 (Tue, 09 Apr 2019) | 
| EndedAt: 2019-04-09 08:24:27 -0400 (Tue, 09 Apr 2019) | 
| EllapsedTime: 46.7 seconds | 
| RetCode: 0 | 
| Status: OK | 
| PackageFile: maSigPro_1.55.0.zip | 
| PackageFileSize: 1.724 MiB | 
##############################################################################
##############################################################################
###
### Running command:
###
###   rm -rf maSigPro.buildbin-libdir && mkdir maSigPro.buildbin-libdir && C:\Users\biocbuild\bbs-3.9-bioc\R\bin\R.exe CMD INSTALL --merge-multiarch --build --library=maSigPro.buildbin-libdir maSigPro_1.55.0.tar.gz
###
##############################################################################
##############################################################################
install for i386
* installing *source* package 'maSigPro' ...
** R
** data
** inst
** byte-compile and prepare package for lazy loading
** help
*** installing help indices
  converting help for package 'maSigPro'
    finding HTML links ... done
    ISOdata                                 html  
    ISOdesign                               html  
    IsoModel                                html  
    IsoPlot                                 html  
    NBdata                                  html  
    NBdesign                                html  
    PlotGroups                              html  
    PlotProfiles                            html  
    PodiumChange                            html  
    T.fit                                   html  
    average.rows                            html  
    data.abiotic                            html  
    edesign.abiotic                         html  
    edesignCT                               html  
    edesignDR                               html  
    get.siggenes                            html  
    getDS                                   html  
    getDSPatterns                           html  
    i.rank                                  html  
    maSigPro                                html  
    maSigProUsersGuide                      html  
    make.design.matrix                      html  
    p.vector                                html  
    position                                html  
    reg.coeffs                              html  
    see.genes                               html  
    seeDS                                   html  
    stepback                                html  
    stepfor                                 html  
    suma2Venn                               html  
    tableDS                                 html  
    two.ways.stepback                       html  
    two.ways.stepfor                        html  
** building package indices
** installing vignettes
** testing if installed package can be loaded from temporary location
** testing if installed package can be loaded from final location
** testing if installed package keeps a record of temporary installation path
install for x64
* installing *source* package 'maSigPro' ...
** testing if installed package can be loaded
* MD5 sums
packaged installation of 'maSigPro' as maSigPro_1.55.0.zip
* DONE (maSigPro)