| Back to Multiple platform build/check report for BioC 3.9 | 
 | 
This page was generated on 2019-04-09 13:24:53 -0400 (Tue, 09 Apr 2019).
| Package 917/1703 | Hostname | OS / Arch | INSTALL | BUILD | CHECK | BUILD BIN | ||||||
| mBPCR 1.37.0 P.M.V. Rancoita 
 | malbec2 | Linux (Ubuntu 18.04.2 LTS) / x86_64 | OK | OK | OK |  | ||||||
| tokay2 | Windows Server 2012 R2 Standard / x64 | OK | OK | OK | OK |  | ||||||
| celaya2 | OS X 10.11.6 El Capitan / x86_64 | OK | OK | OK | OK |  | ||||||
| merida2 | OS X 10.11.6 El Capitan / x86_64 | OK | OK | OK | [ OK ] | 
| Package: mBPCR | 
| Version: 1.37.0 | 
| Command: rm -rf mBPCR.buildbin-libdir && mkdir mBPCR.buildbin-libdir && /Users/biocbuild/BBS/utils/build-universal.sh mBPCR_1.37.0.tar.gz /Library/Frameworks/R.framework/Versions/Current/Resources/bin/R mBPCR.buildbin-libdir | 
| StartedAt: 2019-04-09 05:47:43 -0400 (Tue, 09 Apr 2019) | 
| EndedAt: 2019-04-09 05:49:00 -0400 (Tue, 09 Apr 2019) | 
| EllapsedTime: 77.4 seconds | 
| RetCode: 0 | 
| Status: OK | 
| PackageFile: mBPCR_1.37.0.tgz | 
| PackageFileSize: 754.5 KiB | 
############################################################################## ############################################################################## ### ### Running command: ### ### rm -rf mBPCR.buildbin-libdir && mkdir mBPCR.buildbin-libdir && /Users/biocbuild/BBS/utils/build-universal.sh mBPCR_1.37.0.tar.gz /Library/Frameworks/R.framework/Versions/Current/Resources/bin/R mBPCR.buildbin-libdir ### ############################################################################## ############################################################################## >>>>>>> >>>>>>> INSTALLATION WITH 'R CMD INSTALL --preclean --no-multiarch --library=mBPCR.buildbin-libdir mBPCR_1.37.0.tar.gz' >>>>>>> * installing *source* package ‘mBPCR’ ... ** R ** data *** moving datasets to lazyload DB ** inst ** byte-compile and prepare package for lazy loading ** help *** installing help indices ** building package indices ** installing vignettes ** testing if installed package can be loaded * DONE (mBPCR)