| Back to Multiple platform build/check report for BioC 3.9 | 
 | 
This page was generated on 2019-04-09 13:32:31 -0400 (Tue, 09 Apr 2019).
| Package 876/1703 | Hostname | OS / Arch | INSTALL | BUILD | CHECK | BUILD BIN | ||||||
| lpsymphony 1.11.0 Vladislav Kim 
 | malbec2 | Linux (Ubuntu 18.04.2 LTS) / x86_64 | OK | OK | WARNINGS |  | ||||||
| tokay2 | Windows Server 2012 R2 Standard / x64 | OK | OK | WARNINGS | OK |  | ||||||
| celaya2 | OS X 10.11.6 El Capitan / x86_64 | OK | OK | WARNINGS | OK |  | ||||||
| merida2 | OS X 10.11.6 El Capitan / x86_64 | OK | [ OK ] | WARNINGS | OK | 
| Package: lpsymphony | 
| Version: 1.11.0 | 
| Command: /Library/Frameworks/R.framework/Versions/Current/Resources/bin/R CMD build --keep-empty-dirs --no-resave-data lpsymphony | 
| StartedAt: 2019-04-08 21:24:09 -0400 (Mon, 08 Apr 2019) | 
| EndedAt: 2019-04-08 21:40:22 -0400 (Mon, 08 Apr 2019) | 
| EllapsedTime: 973.7 seconds | 
| RetCode: 0 | 
| Status: OK | 
| PackageFile: lpsymphony_1.11.0.tar.gz | 
| PackageFileSize: 14.96 MiB | 
############################################################################## ############################################################################## ### ### Running command: ### ### /Library/Frameworks/R.framework/Versions/Current/Resources/bin/R CMD build --keep-empty-dirs --no-resave-data lpsymphony ### ############################################################################## ############################################################################## * checking for file ‘lpsymphony/DESCRIPTION’ ... OK * preparing ‘lpsymphony’: * checking DESCRIPTION meta-information ... OK * cleaning src * running ‘cleanup’ * installing the package to build vignettes * creating vignettes ... OK * cleaning src * running ‘cleanup’ * checking for LF line-endings in source and make files and shell scripts * checking for empty or unneeded directories * building ‘lpsymphony_1.11.0.tar.gz’