| Back to Multiple platform build/check report for BioC 3.9 | 
  | 
This page was generated on 2019-04-09 13:19:30 -0400 (Tue, 09 Apr 2019).
| Package 865/1703 | Hostname | OS / Arch | INSTALL | BUILD | CHECK | BUILD BIN | ||||||
| loci2path 1.3.0 Tianlei Xu 
  | malbec2 | Linux (Ubuntu 18.04.2 LTS) / x86_64 | OK | OK | OK | |||||||
| tokay2 | Windows Server 2012 R2 Standard / x64 | OK | OK | OK | OK | |||||||
| celaya2 | OS X 10.11.6 El Capitan / x86_64 | OK | OK | OK | [ OK ] | |||||||
| merida2 | OS X 10.11.6 El Capitan / x86_64 | OK | OK | OK | OK | 
| Package: loci2path | 
| Version: 1.3.0 | 
| Command: rm -rf loci2path.buildbin-libdir && mkdir loci2path.buildbin-libdir && /Users/biocbuild/BBS/utils/build-universal.sh loci2path_1.3.0.tar.gz /Library/Frameworks/R.framework/Versions/Current/Resources/bin/R loci2path.buildbin-libdir | 
| StartedAt: 2019-04-09 07:16:58 -0400 (Tue, 09 Apr 2019) | 
| EndedAt: 2019-04-09 07:17:43 -0400 (Tue, 09 Apr 2019) | 
| EllapsedTime: 45.3 seconds | 
| RetCode: 0 | 
| Status: OK | 
| PackageFile: loci2path_1.3.0.tgz | 
| PackageFileSize: 769.6 KiB | 
############################################################################## ############################################################################## ### ### Running command: ### ### rm -rf loci2path.buildbin-libdir && mkdir loci2path.buildbin-libdir && /Users/biocbuild/BBS/utils/build-universal.sh loci2path_1.3.0.tar.gz /Library/Frameworks/R.framework/Versions/Current/Resources/bin/R loci2path.buildbin-libdir ### ############################################################################## ############################################################################## >>>>>>> >>>>>>> INSTALLATION WITH 'R CMD INSTALL --preclean --no-multiarch --library=loci2path.buildbin-libdir loci2path_1.3.0.tar.gz' >>>>>>> * installing *source* package ‘loci2path’ ... ** using staged installation ** R ** data *** moving datasets to lazyload DB ** inst ** byte-compile and prepare package for lazy loading ** help *** installing help indices ** building package indices ** installing vignettes ** testing if installed package can be loaded from temporary location ** testing if installed package can be loaded from final location ** testing if installed package keeps a record of temporary installation path * DONE (loci2path)