| Back to Multiple platform build/check report for BioC 3.9 |
|
This page was generated on 2019-04-09 12:36:18 -0400 (Tue, 09 Apr 2019).
| Package 831/1703 | Hostname | OS / Arch | INSTALL | BUILD | CHECK | BUILD BIN | ||||||
| iteremoval 1.3.0 Jiacheng Chuan
| malbec2 | Linux (Ubuntu 18.04.2 LTS) / x86_64 | OK | OK | OK | |||||||
| tokay2 | Windows Server 2012 R2 Standard / x64 | OK | OK | OK | [ OK ] | |||||||
| celaya2 | OS X 10.11.6 El Capitan / x86_64 | OK | OK | OK | OK | |||||||
| merida2 | OS X 10.11.6 El Capitan / x86_64 | OK | OK | OK | OK |
| Package: iteremoval |
| Version: 1.3.0 |
| Command: rm -rf iteremoval.buildbin-libdir && mkdir iteremoval.buildbin-libdir && C:\Users\biocbuild\bbs-3.9-bioc\R\bin\R.exe CMD INSTALL --merge-multiarch --build --library=iteremoval.buildbin-libdir iteremoval_1.3.0.tar.gz |
| StartedAt: 2019-04-09 08:19:06 -0400 (Tue, 09 Apr 2019) |
| EndedAt: 2019-04-09 08:19:55 -0400 (Tue, 09 Apr 2019) |
| EllapsedTime: 48.7 seconds |
| RetCode: 0 |
| Status: OK |
| PackageFile: iteremoval_1.3.0.zip |
| PackageFileSize: 442.3 KiB |
##############################################################################
##############################################################################
###
### Running command:
###
### rm -rf iteremoval.buildbin-libdir && mkdir iteremoval.buildbin-libdir && C:\Users\biocbuild\bbs-3.9-bioc\R\bin\R.exe CMD INSTALL --merge-multiarch --build --library=iteremoval.buildbin-libdir iteremoval_1.3.0.tar.gz
###
##############################################################################
##############################################################################
install for i386
* installing *source* package 'iteremoval' ...
** R
** data
*** moving datasets to lazyload DB
** demo
** inst
** byte-compile and prepare package for lazy loading
** help
*** installing help indices
converting help for package 'iteremoval'
finding HTML links ... done
SWRG0 html
SWRG1 html
SummarizedData html
feature_hist html
feature_prevalence html
feature_removal html
feature_screen html
funcOrExp html
ggiteration_trace html
score_combine_methods html
score_standardization_methods html
weight_methods html
** building package indices
** installing vignettes
** testing if installed package can be loaded from temporary location
** testing if installed package can be loaded from final location
** testing if installed package keeps a record of temporary installation path
install for x64
* installing *source* package 'iteremoval' ...
** testing if installed package can be loaded
* MD5 sums
packaged installation of 'iteremoval' as iteremoval_1.3.0.zip
* DONE (iteremoval)