| Back to Multiple platform build/check report for BioC 3.9 | 
 | 
This page was generated on 2019-04-09 13:24:24 -0400 (Tue, 09 Apr 2019).
| Package 829/1703 | Hostname | OS / Arch | INSTALL | BUILD | CHECK | BUILD BIN | ||||||
| iterativeBMAsurv 1.41.0 Ka Yee Yeung 
 | malbec2 | Linux (Ubuntu 18.04.2 LTS) / x86_64 | OK | OK | OK |  | ||||||
| tokay2 | Windows Server 2012 R2 Standard / x64 | OK | OK | OK | OK |  | ||||||
| celaya2 | OS X 10.11.6 El Capitan / x86_64 | OK | OK | OK | OK |  | ||||||
| merida2 | OS X 10.11.6 El Capitan / x86_64 | OK | OK | OK | [ OK ] | 
| Package: iterativeBMAsurv | 
| Version: 1.41.0 | 
| Command: rm -rf iterativeBMAsurv.buildbin-libdir && mkdir iterativeBMAsurv.buildbin-libdir && /Users/biocbuild/BBS/utils/build-universal.sh iterativeBMAsurv_1.41.0.tar.gz /Library/Frameworks/R.framework/Versions/Current/Resources/bin/R iterativeBMAsurv.buildbin-libdir | 
| StartedAt: 2019-04-09 05:40:41 -0400 (Tue, 09 Apr 2019) | 
| EndedAt: 2019-04-09 05:42:02 -0400 (Tue, 09 Apr 2019) | 
| EllapsedTime: 81.0 seconds | 
| RetCode: 0 | 
| Status: OK | 
| PackageFile: iterativeBMAsurv_1.41.0.tgz | 
| PackageFileSize: 311.5 KiB | 
############################################################################## ############################################################################## ### ### Running command: ### ### rm -rf iterativeBMAsurv.buildbin-libdir && mkdir iterativeBMAsurv.buildbin-libdir && /Users/biocbuild/BBS/utils/build-universal.sh iterativeBMAsurv_1.41.0.tar.gz /Library/Frameworks/R.framework/Versions/Current/Resources/bin/R iterativeBMAsurv.buildbin-libdir ### ############################################################################## ############################################################################## >>>>>>> >>>>>>> INSTALLATION WITH 'R CMD INSTALL --preclean --no-multiarch --library=iterativeBMAsurv.buildbin-libdir iterativeBMAsurv_1.41.0.tar.gz' >>>>>>> * installing *source* package ‘iterativeBMAsurv’ ... ** R ** data ** inst ** byte-compile and prepare package for lazy loading ** help *** installing help indices ** building package indices ** installing vignettes ** testing if installed package can be loaded * DONE (iterativeBMAsurv)