| Back to Multiple platform build/check report for BioC 3.9 |
|
This page was generated on 2019-04-09 12:40:49 -0400 (Tue, 09 Apr 2019).
| Package 814/1703 | Hostname | OS / Arch | INSTALL | BUILD | CHECK | BUILD BIN | ||||||
| ipdDb 1.1.0 Steffen Klasberg
| malbec2 | Linux (Ubuntu 18.04.2 LTS) / x86_64 | OK | OK | OK | |||||||
| tokay2 | Windows Server 2012 R2 Standard / x64 | OK | OK | OK | [ OK ] | |||||||
| celaya2 | OS X 10.11.6 El Capitan / x86_64 | OK | OK | OK | OK | |||||||
| merida2 | OS X 10.11.6 El Capitan / x86_64 | OK | OK | OK | OK |
| Package: ipdDb |
| Version: 1.1.0 |
| Command: rm -rf ipdDb.buildbin-libdir && mkdir ipdDb.buildbin-libdir && C:\Users\biocbuild\bbs-3.9-bioc\R\bin\R.exe CMD INSTALL --merge-multiarch --build --library=ipdDb.buildbin-libdir ipdDb_1.1.0.tar.gz |
| StartedAt: 2019-04-09 08:18:00 -0400 (Tue, 09 Apr 2019) |
| EndedAt: 2019-04-09 08:18:39 -0400 (Tue, 09 Apr 2019) |
| EllapsedTime: 38.9 seconds |
| RetCode: 0 |
| Status: OK |
| PackageFile: ipdDb_1.1.0.zip |
| PackageFileSize: 147.9 KiB |
##############################################################################
##############################################################################
###
### Running command:
###
### rm -rf ipdDb.buildbin-libdir && mkdir ipdDb.buildbin-libdir && C:\Users\biocbuild\bbs-3.9-bioc\R\bin\R.exe CMD INSTALL --merge-multiarch --build --library=ipdDb.buildbin-libdir ipdDb_1.1.0.tar.gz
###
##############################################################################
##############################################################################
install for i386
* installing *source* package 'ipdDb' ...
** R
** inst
** byte-compile and prepare package for lazy loading
** help
*** installing help indices
converting help for package 'ipdDb'
finding HTML links ... done
IpdDb html
getAlleles-IpdDb-method html
getClosestComplete-IpdDb-method html
getLoci-IpdDb-method html
getReference-IpdDb-method html
getStructure-IpdDb-method html
ipdDbPackage html
loadHlaData html
loadKirData html
** building package indices
** installing vignettes
** testing if installed package can be loaded from temporary location
** testing if installed package can be loaded from final location
** testing if installed package keeps a record of temporary installation path
install for x64
* installing *source* package 'ipdDb' ...
** testing if installed package can be loaded
* MD5 sums
packaged installation of 'ipdDb' as ipdDb_1.1.0.zip
* DONE (ipdDb)