| Back to Multiple platform build/check report for BioC 3.9 | 
  | 
This page was generated on 2019-04-09 12:14:07 -0400 (Tue, 09 Apr 2019).
| Package 806/1703 | Hostname | OS / Arch | INSTALL | BUILD | CHECK | BUILD BIN | ||||||
| interactiveDisplay 1.21.0 Shawn Balcome 
  | malbec2 | Linux (Ubuntu 18.04.2 LTS) / x86_64 | OK | OK | WARNINGS | |||||||
| tokay2 | Windows Server 2012 R2 Standard / x64 | OK | OK | WARNINGS | [ OK ] | |||||||
| celaya2 | OS X 10.11.6 El Capitan / x86_64 | OK | OK | WARNINGS | OK | |||||||
| merida2 | OS X 10.11.6 El Capitan / x86_64 | OK | OK | WARNINGS | OK | 
| Package: interactiveDisplay | 
| Version: 1.21.0 | 
| Command: rm -rf interactiveDisplay.buildbin-libdir && mkdir interactiveDisplay.buildbin-libdir && C:\Users\biocbuild\bbs-3.9-bioc\R\bin\R.exe CMD INSTALL --merge-multiarch --build --library=interactiveDisplay.buildbin-libdir interactiveDisplay_1.21.0.tar.gz | 
| StartedAt: 2019-04-09 08:17:30 -0400 (Tue, 09 Apr 2019) | 
| EndedAt: 2019-04-09 08:18:12 -0400 (Tue, 09 Apr 2019) | 
| EllapsedTime: 42.7 seconds | 
| RetCode: 0 | 
| Status: OK | 
| PackageFile: interactiveDisplay_1.21.0.zip | 
| PackageFileSize: 2.607 MiB | 
##############################################################################
##############################################################################
###
### Running command:
###
###   rm -rf interactiveDisplay.buildbin-libdir && mkdir interactiveDisplay.buildbin-libdir && C:\Users\biocbuild\bbs-3.9-bioc\R\bin\R.exe CMD INSTALL --merge-multiarch --build --library=interactiveDisplay.buildbin-libdir interactiveDisplay_1.21.0.tar.gz
###
##############################################################################
##############################################################################
install for i386
* installing *source* package 'interactiveDisplay' ...
** R
** data
** inst
** byte-compile and prepare package for lazy loading
in method for 'display' with signature 'object="GRanges"': no definition for class "GRanges"
in method for 'display' with signature 'object="GRangesList"': no definition for class "GRangesList"
in method for 'display' with signature 'object="RangedSummarizedExperiment"': no definition for class "RangedSummarizedExperiment"
in method for 'display' with signature 'object="MRexperiment"': no definition for class "MRexperiment"
** help
*** installing help indices
  converting help for package 'interactiveDisplay'
    finding HTML links ... done
    altgr                                   html  
    bicgo                                   html  
    expr                                    html  
    gridsvgjs                               html  
    gridtweak                               html  
    interactiveDisplay-methods              html  
    mmgr                                    html  
    mmgrl                                   html  
    se                                      html  
    simplenet                               html  
** building package indices
** installing vignettes
** testing if installed package can be loaded from temporary location
** testing if installed package can be loaded from final location
** testing if installed package keeps a record of temporary installation path
install for x64
* installing *source* package 'interactiveDisplay' ...
** testing if installed package can be loaded
* MD5 sums
packaged installation of 'interactiveDisplay' as interactiveDisplay_1.21.0.zip
* DONE (interactiveDisplay)