| Back to Multiple platform build/check report for BioC 3.9 |
|
This page was generated on 2019-04-09 12:00:33 -0400 (Tue, 09 Apr 2019).
| Package 767/1703 | Hostname | OS / Arch | INSTALL | BUILD | CHECK | BUILD BIN | ||||||
| iASeq 1.27.1 Yingying Wei
| malbec2 | Linux (Ubuntu 18.04.2 LTS) / x86_64 | OK | OK | OK | |||||||
| tokay2 | Windows Server 2012 R2 Standard / x64 | OK | OK | OK | [ OK ] | |||||||
| celaya2 | OS X 10.11.6 El Capitan / x86_64 | OK | OK | OK | OK | |||||||
| merida2 | OS X 10.11.6 El Capitan / x86_64 | OK | OK | OK | OK |
| Package: iASeq |
| Version: 1.27.1 |
| Command: rm -rf iASeq.buildbin-libdir && mkdir iASeq.buildbin-libdir && C:\Users\biocbuild\bbs-3.9-bioc\R\bin\R.exe CMD INSTALL --merge-multiarch --build --library=iASeq.buildbin-libdir iASeq_1.27.1.tar.gz |
| StartedAt: 2019-04-09 08:14:56 -0400 (Tue, 09 Apr 2019) |
| EndedAt: 2019-04-09 08:15:47 -0400 (Tue, 09 Apr 2019) |
| EllapsedTime: 50.9 seconds |
| RetCode: 0 |
| Status: OK |
| PackageFile: iASeq_1.27.1.zip |
| PackageFileSize: 215.5 KiB |
##############################################################################
##############################################################################
###
### Running command:
###
### rm -rf iASeq.buildbin-libdir && mkdir iASeq.buildbin-libdir && C:\Users\biocbuild\bbs-3.9-bioc\R\bin\R.exe CMD INSTALL --merge-multiarch --build --library=iASeq.buildbin-libdir iASeq_1.27.1.tar.gz
###
##############################################################################
##############################################################################
install for i386
* installing *source* package 'iASeq' ...
** R
** data
** inst
** byte-compile and prepare package for lazy loading
** help
*** installing help indices
converting help for package 'iASeq'
finding HTML links ... done
ASErawfit html
iASeq-internal html
iASeq-package html
iASeqmotif html
plotBIC html
plotMotif html
sampleASE html
singleEMfit html
** building package indices
** installing vignettes
** testing if installed package can be loaded from temporary location
** testing if installed package can be loaded from final location
** testing if installed package keeps a record of temporary installation path
install for x64
* installing *source* package 'iASeq' ...
** testing if installed package can be loaded
* MD5 sums
packaged installation of 'iASeq' as iASeq_1.27.1.zip
* DONE (iASeq)