| Back to Multiple platform build/check report for BioC 3.9 |
|
This page was generated on 2019-04-09 11:54:23 -0400 (Tue, 09 Apr 2019).
| Package 766/1703 | Hostname | OS / Arch | INSTALL | BUILD | CHECK | BUILD BIN | ||||||
| hypergraph 1.55.0 Bioconductor Package Maintainer
| malbec2 | Linux (Ubuntu 18.04.2 LTS) / x86_64 | OK | OK | OK | |||||||
| tokay2 | Windows Server 2012 R2 Standard / x64 | [ OK ] | OK | OK | OK | |||||||
| celaya2 | OS X 10.11.6 El Capitan / x86_64 | OK | OK | OK | OK | |||||||
| merida2 | OS X 10.11.6 El Capitan / x86_64 | OK | OK | OK | OK |
| Package: hypergraph |
| Version: 1.55.0 |
| Command: C:\cygwin\bin\curl.exe -O https://malbec2.bioconductor.org/BBS/3.9/bioc/src/contrib/hypergraph_1.55.0.tar.gz && rm -rf hypergraph.buildbin-libdir && mkdir hypergraph.buildbin-libdir && C:\Users\biocbuild\bbs-3.9-bioc\R\bin\R.exe CMD INSTALL --merge-multiarch --build --library=hypergraph.buildbin-libdir hypergraph_1.55.0.tar.gz && C:\Users\biocbuild\bbs-3.9-bioc\R\bin\R.exe CMD INSTALL hypergraph_1.55.0.zip && rm hypergraph_1.55.0.tar.gz hypergraph_1.55.0.zip |
| StartedAt: 2019-04-08 18:31:53 -0400 (Mon, 08 Apr 2019) |
| EndedAt: 2019-04-08 18:32:22 -0400 (Mon, 08 Apr 2019) |
| EllapsedTime: 29.2 seconds |
| RetCode: 0 |
| Status: OK |
##############################################################################
##############################################################################
###
### Running command:
###
### C:\cygwin\bin\curl.exe -O https://malbec2.bioconductor.org/BBS/3.9/bioc/src/contrib/hypergraph_1.55.0.tar.gz && rm -rf hypergraph.buildbin-libdir && mkdir hypergraph.buildbin-libdir && C:\Users\biocbuild\bbs-3.9-bioc\R\bin\R.exe CMD INSTALL --merge-multiarch --build --library=hypergraph.buildbin-libdir hypergraph_1.55.0.tar.gz && C:\Users\biocbuild\bbs-3.9-bioc\R\bin\R.exe CMD INSTALL hypergraph_1.55.0.zip && rm hypergraph_1.55.0.tar.gz hypergraph_1.55.0.zip
###
##############################################################################
##############################################################################
% Total % Received % Xferd Average Speed Time Time Time Current
Dload Upload Total Spent Left Speed
0 0 0 0 0 0 0 0 --:--:-- --:--:-- --:--:-- 0
100 8360 100 8360 0 0 137k 0 --:--:-- --:--:-- --:--:-- 157k
install for i386
* installing *source* package 'hypergraph' ...
** R
** inst
** byte-compile and prepare package for lazy loading
** help
*** installing help indices
converting help for package 'hypergraph'
finding HTML links ... done
DirectedHyperedge-class html
DirectedHyperedge html
Hyperedge-class html
Hyperedge html
Hypergraph-class html
Hypergraph html
kCores html
l2hel html
vCover html
** building package indices
** testing if installed package can be loaded from temporary location
** testing if installed package can be loaded from final location
** testing if installed package keeps a record of temporary installation path
install for x64
* installing *source* package 'hypergraph' ...
** testing if installed package can be loaded
* MD5 sums
packaged installation of 'hypergraph' as hypergraph_1.55.0.zip
* DONE (hypergraph)
* installing to library 'C:/Users/biocbuild/bbs-3.9-bioc/R/library'
package 'hypergraph' successfully unpacked and MD5 sums checked