| Back to Multiple platform build/check report for BioC 3.9 |
|
This page was generated on 2019-04-09 12:35:46 -0400 (Tue, 09 Apr 2019).
| Package 753/1703 | Hostname | OS / Arch | INSTALL | BUILD | CHECK | BUILD BIN | ||||||
| hmdbQuery 1.3.0 VJ Carey
| malbec2 | Linux (Ubuntu 18.04.2 LTS) / x86_64 | OK | OK | OK | |||||||
| tokay2 | Windows Server 2012 R2 Standard / x64 | OK | OK | OK | [ OK ] | |||||||
| celaya2 | OS X 10.11.6 El Capitan / x86_64 | OK | OK | OK | OK | |||||||
| merida2 | OS X 10.11.6 El Capitan / x86_64 | OK | OK | OK | OK |
| Package: hmdbQuery |
| Version: 1.3.0 |
| Command: rm -rf hmdbQuery.buildbin-libdir && mkdir hmdbQuery.buildbin-libdir && C:\Users\biocbuild\bbs-3.9-bioc\R\bin\R.exe CMD INSTALL --merge-multiarch --build --library=hmdbQuery.buildbin-libdir hmdbQuery_1.3.0.tar.gz |
| StartedAt: 2019-04-09 08:14:07 -0400 (Tue, 09 Apr 2019) |
| EndedAt: 2019-04-09 08:14:44 -0400 (Tue, 09 Apr 2019) |
| EllapsedTime: 37.5 seconds |
| RetCode: 0 |
| Status: OK |
| PackageFile: hmdbQuery_1.3.0.zip |
| PackageFileSize: 845.1 KiB |
##############################################################################
##############################################################################
###
### Running command:
###
### rm -rf hmdbQuery.buildbin-libdir && mkdir hmdbQuery.buildbin-libdir && C:\Users\biocbuild\bbs-3.9-bioc\R\bin\R.exe CMD INSTALL --merge-multiarch --build --library=hmdbQuery.buildbin-libdir hmdbQuery_1.3.0.tar.gz
###
##############################################################################
##############################################################################
install for i386
* installing *source* package 'hmdbQuery' ...
** R
** data
** inst
** byte-compile and prepare package for lazy loading
** help
*** installing help indices
converting help for package 'hmdbQuery'
finding HTML links ... done
HmdbEntry-class html
HmdbEntry html
biospecimens-HmdbEntry-method html
diseases-HmdbEntry-method html
hmdb1 html
hmdb_disease html
hmdb_gene html
hmdb_omim html
hmdb_protein html
store-HmdbEntry-method html
tissues-HmdbEntry-method html
** building package indices
** installing vignettes
** testing if installed package can be loaded from temporary location
** testing if installed package can be loaded from final location
** testing if installed package keeps a record of temporary installation path
install for x64
* installing *source* package 'hmdbQuery' ...
** testing if installed package can be loaded
* MD5 sums
packaged installation of 'hmdbQuery' as hmdbQuery_1.3.0.zip
* DONE (hmdbQuery)