| Back to Multiple platform build/check report for BioC 3.9 |
|
This page was generated on 2019-04-09 12:24:19 -0400 (Tue, 09 Apr 2019).
| Package 744/1703 | Hostname | OS / Arch | INSTALL | BUILD | CHECK | BUILD BIN | ||||||
| hierGWAS 1.13.0 Laura Buzdugan
| malbec2 | Linux (Ubuntu 18.04.2 LTS) / x86_64 | OK | OK | OK | |||||||
| tokay2 | Windows Server 2012 R2 Standard / x64 | [ OK ] | OK | OK | OK | |||||||
| celaya2 | OS X 10.11.6 El Capitan / x86_64 | OK | OK | OK | OK | |||||||
| merida2 | OS X 10.11.6 El Capitan / x86_64 | OK | OK | OK | OK |
| Package: hierGWAS |
| Version: 1.13.0 |
| Command: C:\cygwin\bin\curl.exe -O https://malbec2.bioconductor.org/BBS/3.9/bioc/src/contrib/hierGWAS_1.13.0.tar.gz && rm -rf hierGWAS.buildbin-libdir && mkdir hierGWAS.buildbin-libdir && C:\Users\biocbuild\bbs-3.9-bioc\R\bin\R.exe CMD INSTALL --merge-multiarch --build --library=hierGWAS.buildbin-libdir hierGWAS_1.13.0.tar.gz && C:\Users\biocbuild\bbs-3.9-bioc\R\bin\R.exe CMD INSTALL hierGWAS_1.13.0.zip && rm hierGWAS_1.13.0.tar.gz hierGWAS_1.13.0.zip |
| StartedAt: 2019-04-08 18:50:35 -0400 (Mon, 08 Apr 2019) |
| EndedAt: 2019-04-08 18:51:28 -0400 (Mon, 08 Apr 2019) |
| EllapsedTime: 53.1 seconds |
| RetCode: 0 |
| Status: OK |
##############################################################################
##############################################################################
###
### Running command:
###
### C:\cygwin\bin\curl.exe -O https://malbec2.bioconductor.org/BBS/3.9/bioc/src/contrib/hierGWAS_1.13.0.tar.gz && rm -rf hierGWAS.buildbin-libdir && mkdir hierGWAS.buildbin-libdir && C:\Users\biocbuild\bbs-3.9-bioc\R\bin\R.exe CMD INSTALL --merge-multiarch --build --library=hierGWAS.buildbin-libdir hierGWAS_1.13.0.tar.gz && C:\Users\biocbuild\bbs-3.9-bioc\R\bin\R.exe CMD INSTALL hierGWAS_1.13.0.zip && rm hierGWAS_1.13.0.tar.gz hierGWAS_1.13.0.zip
###
##############################################################################
##############################################################################
% Total % Received % Xferd Average Speed Time Time Time Current
Dload Upload Total Spent Left Speed
0 0 0 0 0 0 0 0 --:--:-- --:--:-- --:--:-- 0
100 200k 100 200k 0 0 3107k 0 --:--:-- --:--:-- --:--:-- 3514k
install for i386
* installing *source* package 'hierGWAS' ...
** R
** data
*** moving datasets to lazyload DB
** inst
** byte-compile and prepare package for lazy loading
** help
*** installing help indices
converting help for package 'hierGWAS'
finding HTML links ... done
cluster.snp html
compute.r2 html
hierGWAS html
multisplit html
finding level-2 HTML links ... done
simGWAS html
test.hierarchy html
** building package indices
** installing vignettes
** testing if installed package can be loaded from temporary location
** testing if installed package can be loaded from final location
** testing if installed package keeps a record of temporary installation path
install for x64
* installing *source* package 'hierGWAS' ...
** testing if installed package can be loaded
* MD5 sums
packaged installation of 'hierGWAS' as hierGWAS_1.13.0.zip
* DONE (hierGWAS)
* installing to library 'C:/Users/biocbuild/bbs-3.9-bioc/R/library'
package 'hierGWAS' successfully unpacked and MD5 sums checked