| Back to Multiple platform build/check report for BioC 3.9 | 
 | 
This page was generated on 2019-04-09 12:30:17 -0400 (Tue, 09 Apr 2019).
| Package 743/1703 | Hostname | OS / Arch | INSTALL | BUILD | CHECK | BUILD BIN | ||||||
| hicrep 1.7.0 Tao Yang 
 | malbec2 | Linux (Ubuntu 18.04.2 LTS) / x86_64 | OK | OK | OK |  | ||||||
| tokay2 | Windows Server 2012 R2 Standard / x64 | OK | OK | OK | [ OK ] |  | ||||||
| celaya2 | OS X 10.11.6 El Capitan / x86_64 | OK | OK | OK | OK |  | ||||||
| merida2 | OS X 10.11.6 El Capitan / x86_64 | OK | OK | OK | OK | 
| Package: hicrep | 
| Version: 1.7.0 | 
| Command: rm -rf hicrep.buildbin-libdir && mkdir hicrep.buildbin-libdir && C:\Users\biocbuild\bbs-3.9-bioc\R\bin\R.exe CMD INSTALL --merge-multiarch --build --library=hicrep.buildbin-libdir hicrep_1.7.0.tar.gz | 
| StartedAt: 2019-04-09 08:13:02 -0400 (Tue, 09 Apr 2019) | 
| EndedAt: 2019-04-09 08:13:42 -0400 (Tue, 09 Apr 2019) | 
| EllapsedTime: 39.1 seconds | 
| RetCode: 0 | 
| Status: OK | 
| PackageFile: hicrep_1.7.0.zip | 
| PackageFileSize: 75.34 KiB | 
##############################################################################
##############################################################################
###
### Running command:
###
###   rm -rf hicrep.buildbin-libdir && mkdir hicrep.buildbin-libdir && C:\Users\biocbuild\bbs-3.9-bioc\R\bin\R.exe CMD INSTALL --merge-multiarch --build --library=hicrep.buildbin-libdir hicrep_1.7.0.tar.gz
###
##############################################################################
##############################################################################
install for i386
* installing *source* package 'hicrep' ...
** R
** data
*** moving datasets to lazyload DB
** inst
** byte-compile and prepare package for lazy loading
** help
*** installing help indices
  converting help for package 'hicrep'
    finding HTML links ... done
    HiCR1                                   html  
    HiCR2                                   html  
    MatToVec                                html  
    depth.adj                               html  
    get.scc                                 html  
    hicrep-package                          html  
    htrain                                  html  
    prep                                    html  
    smoothMat                               html  
    vstran                                  html  
** building package indices
** installing vignettes
** testing if installed package can be loaded from temporary location
** testing if installed package can be loaded from final location
** testing if installed package keeps a record of temporary installation path
install for x64
* installing *source* package 'hicrep' ...
** testing if installed package can be loaded
* MD5 sums
packaged installation of 'hicrep' as hicrep_1.7.0.zip
* DONE (hicrep)