| Back to Multiple platform build/check report for BioC 3.9 |
|
This page was generated on 2019-04-09 12:19:27 -0400 (Tue, 09 Apr 2019).
| Package 739/1703 | Hostname | OS / Arch | INSTALL | BUILD | CHECK | BUILD BIN | ||||||
| hiAnnotator 1.17.0 Nirav V Malani
| malbec2 | Linux (Ubuntu 18.04.2 LTS) / x86_64 | OK | OK | OK | |||||||
| tokay2 | Windows Server 2012 R2 Standard / x64 | OK | OK | WARNINGS | [ OK ] | |||||||
| celaya2 | OS X 10.11.6 El Capitan / x86_64 | OK | OK | OK | OK | |||||||
| merida2 | OS X 10.11.6 El Capitan / x86_64 | OK | OK | OK | OK |
| Package: hiAnnotator |
| Version: 1.17.0 |
| Command: rm -rf hiAnnotator.buildbin-libdir && mkdir hiAnnotator.buildbin-libdir && C:\Users\biocbuild\bbs-3.9-bioc\R\bin\R.exe CMD INSTALL --merge-multiarch --build --library=hiAnnotator.buildbin-libdir hiAnnotator_1.17.0.tar.gz |
| StartedAt: 2019-04-09 08:12:34 -0400 (Tue, 09 Apr 2019) |
| EndedAt: 2019-04-09 08:14:03 -0400 (Tue, 09 Apr 2019) |
| EllapsedTime: 89.0 seconds |
| RetCode: 0 |
| Status: OK |
| PackageFile: hiAnnotator_1.17.0.zip |
| PackageFileSize: 788.1 KiB |
##############################################################################
##############################################################################
###
### Running command:
###
### rm -rf hiAnnotator.buildbin-libdir && mkdir hiAnnotator.buildbin-libdir && C:\Users\biocbuild\bbs-3.9-bioc\R\bin\R.exe CMD INSTALL --merge-multiarch --build --library=hiAnnotator.buildbin-libdir hiAnnotator_1.17.0.tar.gz
###
##############################################################################
##############################################################################
install for i386
* installing *source* package 'hiAnnotator' ...
** R
** data
** inst
** byte-compile and prepare package for lazy loading
** help
*** installing help indices
converting help for package 'hiAnnotator'
finding HTML links ... done
cleanColname html
doAnnotation html
genes html
get2NearestFeature html
getFeatureCounts html
getFeatureCountsBig html
getLowestDists html
Rd warning: C:/Users/biocbuild/bbs-3.9-bioc/tmpdir/RtmpAh71Nn/R.INSTALL17203a043e55/hiAnnotator/man/getLowestDists.Rd:32: file link 'nearest' in package 'IRanges' does not exist and so has been treated as a topic
Rd warning: C:/Users/biocbuild/bbs-3.9-bioc/tmpdir/RtmpAh71Nn/R.INSTALL17203a043e55/hiAnnotator/man/getLowestDists.Rd:19: file link 'nearest' in package 'IRanges' does not exist and so has been treated as a topic
getNearestFeature html
getRelevantCol html
getSitesInFeature html
Rd warning: C:/Users/biocbuild/bbs-3.9-bioc/tmpdir/RtmpAh71Nn/R.INSTALL17203a043e55/hiAnnotator/man/getSitesInFeature.Rd:38: file link 'findOverlaps' in package 'IRanges' does not exist and so has been treated as a topic
getUCSCtable html
finding level-2 HTML links ... done
getWindowLabel html
hiAnnotator html
makeChunks html
makeGRanges html
makeUCSCsession html
plotdisFeature html
sites html
sites.ctrl html
** building package indices
** installing vignettes
** testing if installed package can be loaded from temporary location
** testing if installed package can be loaded from final location
** testing if installed package keeps a record of temporary installation path
install for x64
* installing *source* package 'hiAnnotator' ...
** testing if installed package can be loaded
* MD5 sums
packaged installation of 'hiAnnotator' as hiAnnotator_1.17.0.zip
* DONE (hiAnnotator)