| Back to Multiple platform build/check report for BioC 3.9 | 
 | 
This page was generated on 2019-04-09 13:31:15 -0400 (Tue, 09 Apr 2019).
| Package 721/1703 | Hostname | OS / Arch | INSTALL | BUILD | CHECK | BUILD BIN | ||||||
| gtrellis 1.15.2 Zuguang Gu 
 | malbec2 | Linux (Ubuntu 18.04.2 LTS) / x86_64 | OK | OK | OK |  | ||||||
| tokay2 | Windows Server 2012 R2 Standard / x64 | OK | OK | OK | OK |  | ||||||
| celaya2 | OS X 10.11.6 El Capitan / x86_64 | OK | OK | OK | OK |  | ||||||
| merida2 | OS X 10.11.6 El Capitan / x86_64 | OK | OK | OK | [ OK ] | 
| Package: gtrellis | 
| Version: 1.15.2 | 
| Command: rm -rf gtrellis.buildbin-libdir && mkdir gtrellis.buildbin-libdir && /Users/biocbuild/BBS/utils/build-universal.sh gtrellis_1.15.2.tar.gz /Library/Frameworks/R.framework/Versions/Current/Resources/bin/R gtrellis.buildbin-libdir | 
| StartedAt: 2019-04-09 05:32:37 -0400 (Tue, 09 Apr 2019) | 
| EndedAt: 2019-04-09 05:33:49 -0400 (Tue, 09 Apr 2019) | 
| EllapsedTime: 72.0 seconds | 
| RetCode: 0 | 
| Status: OK | 
| PackageFile: gtrellis_1.15.2.tgz | 
| PackageFileSize: 4.061 MiB | 
############################################################################## ############################################################################## ### ### Running command: ### ### rm -rf gtrellis.buildbin-libdir && mkdir gtrellis.buildbin-libdir && /Users/biocbuild/BBS/utils/build-universal.sh gtrellis_1.15.2.tar.gz /Library/Frameworks/R.framework/Versions/Current/Resources/bin/R gtrellis.buildbin-libdir ### ############################################################################## ############################################################################## >>>>>>> >>>>>>> INSTALLATION WITH 'R CMD INSTALL --preclean --no-multiarch --library=gtrellis.buildbin-libdir gtrellis_1.15.2.tar.gz' >>>>>>> * installing *source* package ‘gtrellis’ ... ** R ** inst ** byte-compile and prepare package for lazy loading ** help *** installing help indices ** building package indices ** installing vignettes ** testing if installed package can be loaded * DONE (gtrellis)