| Back to Multiple platform build/check report for BioC 3.9 |
|
This page was generated on 2019-04-09 11:59:41 -0400 (Tue, 09 Apr 2019).
| Package 704/1703 | Hostname | OS / Arch | INSTALL | BUILD | CHECK | BUILD BIN | ||||||
| graphite 1.29.2 Gabriele Sales
| malbec2 | Linux (Ubuntu 18.04.2 LTS) / x86_64 | OK | OK | OK | |||||||
| tokay2 | Windows Server 2012 R2 Standard / x64 | OK | OK | OK | [ OK ] | |||||||
| celaya2 | OS X 10.11.6 El Capitan / x86_64 | OK | OK | OK | OK | |||||||
| merida2 | OS X 10.11.6 El Capitan / x86_64 | OK | OK | OK | OK |
| Package: graphite |
| Version: 1.29.2 |
| Command: rm -rf graphite.buildbin-libdir && mkdir graphite.buildbin-libdir && C:\Users\biocbuild\bbs-3.9-bioc\R\bin\R.exe CMD INSTALL --merge-multiarch --build --library=graphite.buildbin-libdir graphite_1.29.2.tar.gz |
| StartedAt: 2019-04-09 08:08:41 -0400 (Tue, 09 Apr 2019) |
| EndedAt: 2019-04-09 08:09:38 -0400 (Tue, 09 Apr 2019) |
| EllapsedTime: 57.7 seconds |
| RetCode: 0 |
| Status: OK |
| PackageFile: graphite_1.29.2.zip |
| PackageFileSize: 839.5 KiB |
##############################################################################
##############################################################################
###
### Running command:
###
### rm -rf graphite.buildbin-libdir && mkdir graphite.buildbin-libdir && C:\Users\biocbuild\bbs-3.9-bioc\R\bin\R.exe CMD INSTALL --merge-multiarch --build --library=graphite.buildbin-libdir graphite_1.29.2.tar.gz
###
##############################################################################
##############################################################################
install for i386
* installing *source* package 'graphite' ...
** R
** inst
** byte-compile and prepare package for lazy loading
** help
*** installing help indices
converting help for package 'graphite'
finding HTML links ... done
Pathway-class html
PathwayList-class html
Pathways-class html
as.list.PathwayList html
buildPathway html
convertIdentifiers html
cytoscapePlot html
finding level-2 HTML links ... done
pathwayDatabases html
pathwayGraph html
pathways html
prepareSPIA html
runClipper html
runSPIA html
runTopologyGSA html
** building package indices
** installing vignettes
** testing if installed package can be loaded from temporary location
** testing if installed package can be loaded from final location
** testing if installed package keeps a record of temporary installation path
install for x64
* installing *source* package 'graphite' ...
** testing if installed package can be loaded
* MD5 sums
packaged installation of 'graphite' as graphite_1.29.2.zip
* DONE (graphite)