| Back to Multiple platform build/check report for BioC 3.9 |
|
This page was generated on 2019-04-09 11:53:17 -0400 (Tue, 09 Apr 2019).
| Package 701/1703 | Hostname | OS / Arch | INSTALL | BUILD | CHECK | BUILD BIN | ||||||
| graph 1.61.1 Bioconductor Package Maintainer
| malbec2 | Linux (Ubuntu 18.04.2 LTS) / x86_64 | OK | OK | OK | |||||||
| tokay2 | Windows Server 2012 R2 Standard / x64 | OK | OK | OK | [ OK ] | |||||||
| celaya2 | OS X 10.11.6 El Capitan / x86_64 | OK | OK | OK | OK | |||||||
| merida2 | OS X 10.11.6 El Capitan / x86_64 | OK | OK | ERROR | OK |
| Package: graph |
| Version: 1.61.1 |
| Command: rm -rf graph.buildbin-libdir && mkdir graph.buildbin-libdir && C:\Users\biocbuild\bbs-3.9-bioc\R\bin\R.exe CMD INSTALL --merge-multiarch --build --library=graph.buildbin-libdir graph_1.61.1.tar.gz |
| StartedAt: 2019-04-09 08:08:01 -0400 (Tue, 09 Apr 2019) |
| EndedAt: 2019-04-09 08:10:55 -0400 (Tue, 09 Apr 2019) |
| EllapsedTime: 173.4 seconds |
| RetCode: 0 |
| Status: OK |
| PackageFile: graph_1.61.1.zip |
| PackageFileSize: 1.684 MiB |
##############################################################################
##############################################################################
###
### Running command:
###
### rm -rf graph.buildbin-libdir && mkdir graph.buildbin-libdir && C:\Users\biocbuild\bbs-3.9-bioc\R\bin\R.exe CMD INSTALL --merge-multiarch --build --library=graph.buildbin-libdir graph_1.61.1.tar.gz
###
##############################################################################
##############################################################################
install for i386
* installing *source* package 'graph' ...
** libs
C:/Rtools/mingw_32/bin/gcc -I"C:/Users/BIOCBU˜1/BBS-3˜1.9-B/R/include" -DNDEBUG -I"C:/extsoft/include" -O3 -Wall -std=gnu99 -mtune=generic -c graph.c -o graph.o
C:/Rtools/mingw_32/bin/gcc -shared -s -static-libgcc -o graph.dll tmp.def graph.o -LC:/extsoft/lib/i386 -LC:/extsoft/lib -LC:/Users/BIOCBU˜1/BBS-3˜1.9-B/R/bin/i386 -lR
mv graph.dll BioC_graph.dll
installing to C:/Users/biocbuild/bbs-3.9-bioc/meat/graph.buildbin-libdir/00LOCK-graph/00new/graph/libs/i386
** R
** data
** inst
** byte-compile and prepare package for lazy loading
** help
*** installing help indices
converting help for package 'graph'
finding HTML links ... done
DFS html
IMCA html
MAPKsig html
MultiGraph-class html
acc-methods html
addEdge html
addNode html
adj-methods html
adjacencyMatrix html
apoptosisGraph html
attrData-class html
attrDataItem-methods html
attrDefaults-methods html
aveNumEdges html
biocRepos html
boundary html
calcProb html
calcSumProb html
clearNode html
clusterGraph-class html
clusteringCoefficient-methods html
combineNodes html
defunct html
distGraph-class html
duplicatedEdges html
edgeData-methods html
edgeDataDefaults-methods html
edgeMatrix html
edgeSets html
edgeWeights html
fromGXL-methods html
graph-class html
graph2SparseM html
graphAM-class html
graphBAM-class html
graphExamples html
graphNEL-class html
inEdges html
internal html
isAdjacent-methods html
isDirected-methods html
leaves html
listEdges html
matrix2Graph html
mostEdges html
multigraph html
nodeData-methods html
nodeDataDefaults-methods html
numNoEdges html
pancrCaIni html
randomEGraph html
randomGraph html
randomNodeGraph html
removeEdge html
removeNode html
renderInfo-class html
reverseEdgeDirections html
settings html
simpleEdge-class html
standardLabeling html
subGraph html
toDotR-methods html
toDotWithRI html
ugraph html
validGraph html
write.tlp html
** building package indices
** installing vignettes
** testing if installed package can be loaded from temporary location
** testing if installed package can be loaded from final location
** testing if installed package keeps a record of temporary installation path
install for x64
* installing *source* package 'graph' ...
** libs
C:/Rtools/mingw_64/bin/gcc -I"C:/Users/BIOCBU˜1/BBS-3˜1.9-B/R/include" -DNDEBUG -I"C:/extsoft/include" -O2 -Wall -std=gnu99 -mtune=generic -c graph.c -o graph.o
C:/Rtools/mingw_64/bin/gcc -shared -s -static-libgcc -o graph.dll tmp.def graph.o -LC:/extsoft/lib/x64 -LC:/extsoft/lib -LC:/Users/BIOCBU˜1/BBS-3˜1.9-B/R/bin/x64 -lR
mv graph.dll BioC_graph.dll
installing to C:/Users/biocbuild/bbs-3.9-bioc/meat/graph.buildbin-libdir/graph/libs/x64
** testing if installed package can be loaded
* MD5 sums
packaged installation of 'graph' as graph_1.61.1.zip
* DONE (graph)