| Back to Multiple platform build/check report for BioC 3.9 |
|
This page was generated on 2019-04-09 13:04:21 -0400 (Tue, 09 Apr 2019).
| Package 697/1703 | Hostname | OS / Arch | INSTALL | BUILD | CHECK | BUILD BIN | ||||||
| gprege 1.27.0 Alfredo Kalaitzis
| malbec2 | Linux (Ubuntu 18.04.2 LTS) / x86_64 | OK | OK | OK | |||||||
| tokay2 | Windows Server 2012 R2 Standard / x64 | OK | OK | OK | OK | |||||||
| celaya2 | OS X 10.11.6 El Capitan / x86_64 | OK | [ OK ] | OK | OK | |||||||
| merida2 | OS X 10.11.6 El Capitan / x86_64 | OK | OK | OK | OK |
| Package: gprege |
| Version: 1.27.0 |
| Command: /Library/Frameworks/R.framework/Versions/Current/Resources/bin/R CMD build --keep-empty-dirs --no-resave-data gprege |
| StartedAt: 2019-04-08 20:15:41 -0400 (Mon, 08 Apr 2019) |
| EndedAt: 2019-04-08 20:16:16 -0400 (Mon, 08 Apr 2019) |
| EllapsedTime: 35.1 seconds |
| RetCode: 0 |
| Status: OK |
| PackageFile: gprege_1.27.0.tar.gz |
| PackageFileSize: 3.205 MiB |
##############################################################################
##############################################################################
###
### Running command:
###
### /Library/Frameworks/R.framework/Versions/Current/Resources/bin/R CMD build --keep-empty-dirs --no-resave-data gprege
###
##############################################################################
##############################################################################
* checking for file ‘gprege/DESCRIPTION’ ... OK
* preparing ‘gprege’:
* checking DESCRIPTION meta-information ... OK
* installing the package to build vignettes
* creating vignettes ... OK
Warning: ‘inst/doc’ file
‘gprege_quick.Rnw’
ignored as vignettes have been rebuilt.
Run R CMD build with --no-build-vignettes to prevent rebuilding.
* checking for LF line-endings in source and make files and shell scripts
* checking for empty or unneeded directories
* looking to see if a ‘data/datalist’ file should be added
* building ‘gprege_1.27.0.tar.gz’