| Back to Multiple platform build/check report for BioC 3.9 |
|
This page was generated on 2019-04-09 13:34:30 -0400 (Tue, 09 Apr 2019).
| Package 690/1703 | Hostname | OS / Arch | INSTALL | BUILD | CHECK | BUILD BIN | ||||||
| goSTAG 1.7.1 Brian D. Bennett
| malbec2 | Linux (Ubuntu 18.04.2 LTS) / x86_64 | OK | OK | OK | |||||||
| tokay2 | Windows Server 2012 R2 Standard / x64 | OK | OK | OK | OK | |||||||
| celaya2 | OS X 10.11.6 El Capitan / x86_64 | OK | OK | OK | OK | |||||||
| merida2 | OS X 10.11.6 El Capitan / x86_64 | OK | OK | [ OK ] | OK |
| Package: goSTAG |
| Version: 1.7.1 |
| Command: /Library/Frameworks/R.framework/Versions/Current/Resources/bin/R CMD check --install=check:goSTAG.install-out.txt --library=/Library/Frameworks/R.framework/Versions/Current/Resources/library --no-vignettes --timings goSTAG_1.7.1.tar.gz |
| StartedAt: 2019-04-09 01:18:04 -0400 (Tue, 09 Apr 2019) |
| EndedAt: 2019-04-09 01:24:42 -0400 (Tue, 09 Apr 2019) |
| EllapsedTime: 398.1 seconds |
| RetCode: 0 |
| Status: OK |
| CheckDir: goSTAG.Rcheck |
| Warnings: 0 |
##############################################################################
##############################################################################
###
### Running command:
###
### /Library/Frameworks/R.framework/Versions/Current/Resources/bin/R CMD check --install=check:goSTAG.install-out.txt --library=/Library/Frameworks/R.framework/Versions/Current/Resources/library --no-vignettes --timings goSTAG_1.7.1.tar.gz
###
##############################################################################
##############################################################################
* using log directory ‘/Users/biocbuild/bbs-3.9-bioc/meat/goSTAG.Rcheck’
* using R Under development (unstable) (2018-11-27 r75683)
* using platform: x86_64-apple-darwin15.6.0 (64-bit)
* using session charset: UTF-8
* using option ‘--no-vignettes’
* checking for file ‘goSTAG/DESCRIPTION’ ... OK
* checking extension type ... Package
* this is package ‘goSTAG’ version ‘1.7.1’
* checking package namespace information ... OK
* checking package dependencies ... OK
* checking if this is a source package ... OK
* checking if there is a namespace ... OK
* checking for hidden files and directories ... OK
* checking for portable file names ... OK
* checking for sufficient/correct file permissions ... OK
* checking whether package ‘goSTAG’ can be installed ... OK
* checking installed package size ... OK
* checking package directory ... OK
* checking ‘build’ directory ... OK
* checking DESCRIPTION meta-information ... OK
* checking top-level files ... OK
* checking for left-over files ... OK
* checking index information ... OK
* checking package subdirectories ... OK
* checking R files for non-ASCII characters ... OK
* checking R files for syntax errors ... OK
* checking whether the package can be loaded ... OK
* checking whether the package can be loaded with stated dependencies ... OK
* checking whether the package can be unloaded cleanly ... OK
* checking whether the namespace can be loaded with stated dependencies ... OK
* checking whether the namespace can be unloaded cleanly ... OK
* checking dependencies in R code ... OK
* checking S3 generic/method consistency ... OK
* checking replacement functions ... OK
* checking foreign function calls ... OK
* checking R code for possible problems ... OK
* checking Rd files ... OK
* checking Rd metadata ... OK
* checking Rd cross-references ... OK
* checking for missing documentation entries ... OK
* checking for code/documentation mismatches ... OK
* checking Rd \usage sections ... OK
* checking Rd contents ... OK
* checking for unstated dependencies in examples ... OK
* checking contents of ‘data’ directory ... OK
* checking data for non-ASCII characters ... OK
* checking data for ASCII and uncompressed saves ... OK
* checking files in ‘vignettes’ ... OK
* checking examples ... OK
Examples with CPU or elapsed time > 5s
user system elapsed
annotateClusters 52.607 1.691 54.623
goSTAG-package 49.055 1.505 51.102
plotHeatmap 46.588 1.468 48.539
groupClusters 45.258 1.416 47.210
performHierarchicalClustering 44.610 1.443 46.525
performGOEnrichment 43.876 1.439 45.793
* checking for unstated dependencies in ‘tests’ ... OK
* checking tests ...
Running ‘testthat.R’
OK
* checking for unstated dependencies in vignettes ... OK
* checking package vignettes in ‘inst/doc’ ... OK
* checking running R code from vignettes ... SKIPPED
* checking re-building of vignette outputs ... SKIPPED
* checking PDF version of manual ... OK
* DONE
Status: OK
goSTAG.Rcheck/00install.out
############################################################################## ############################################################################## ### ### Running command: ### ### /Library/Frameworks/R.framework/Versions/Current/Resources/bin/R CMD INSTALL goSTAG ### ############################################################################## ############################################################################## * installing to library ‘/Library/Frameworks/R.framework/Versions/3.6/Resources/library’ * installing *source* package ‘goSTAG’ ... ** R ** data *** moving datasets to lazyload DB ** inst ** byte-compile and prepare package for lazy loading ** help *** installing help indices ** building package indices ** installing vignettes ** testing if installed package can be loaded * DONE (goSTAG)
goSTAG.Rcheck/tests/testthat.Rout
R Under development (unstable) (2018-11-27 r75683) -- "Unsuffered Consequences"
Copyright (C) 2018 The R Foundation for Statistical Computing
Platform: x86_64-apple-darwin15.6.0 (64-bit)
R is free software and comes with ABSOLUTELY NO WARRANTY.
You are welcome to redistribute it under certain conditions.
Type 'license()' or 'licence()' for distribution details.
R is a collaborative project with many contributors.
Type 'contributors()' for more information and
'citation()' on how to cite R or R packages in publications.
Type 'demo()' for some demos, 'help()' for on-line help, or
'help.start()' for an HTML browser interface to help.
Type 'q()' to quit R.
> library(testthat)
> library(goSTAG)
>
> test_check("goSTAG")
══ testthat results ═══════════════════════════════════════════════════════════
OK: 0 SKIPPED: 0 FAILED: 0
>
> proc.time()
user system elapsed
3.761 0.256 4.009
goSTAG.Rcheck/goSTAG-Ex.timings
| name | user | system | elapsed | |
| annotateClusters | 52.607 | 1.691 | 54.623 | |
| goSTAG-package | 49.055 | 1.505 | 51.102 | |
| goSTAG_example_gene_lists | 0.002 | 0.000 | 0.003 | |
| goSTAG_go_genes_human | 0.083 | 0.006 | 0.093 | |
| goSTAG_go_genes_mouse | 0.109 | 0.004 | 0.117 | |
| goSTAG_go_genes_rat | 0.067 | 0.003 | 0.073 | |
| groupClusters | 45.258 | 1.416 | 47.210 | |
| loadGOTerms | 0.208 | 0.011 | 0.220 | |
| loadGeneLists | 0.007 | 0.001 | 0.009 | |
| performGOEnrichment | 43.876 | 1.439 | 45.793 | |
| performHierarchicalClustering | 44.610 | 1.443 | 46.525 | |
| plotHeatmap | 46.588 | 1.468 | 48.539 | |
| rat_cancer_therapeutics_gene_lists | 0.008 | 0.001 | 0.009 | |