| Back to Multiple platform build/check report for BioC 3.9 |
|
This page was generated on 2019-04-09 12:25:18 -0400 (Tue, 09 Apr 2019).
| Package 677/1703 | Hostname | OS / Arch | INSTALL | BUILD | CHECK | BUILD BIN | ||||||
| globalSeq 1.11.2 Armin Rauschenberger
| malbec2 | Linux (Ubuntu 18.04.2 LTS) / x86_64 | OK | OK | OK | |||||||
| tokay2 | Windows Server 2012 R2 Standard / x64 | OK | OK | OK | [ OK ] | |||||||
| celaya2 | OS X 10.11.6 El Capitan / x86_64 | OK | OK | OK | OK | |||||||
| merida2 | OS X 10.11.6 El Capitan / x86_64 | OK | OK | OK | OK |
| Package: globalSeq |
| Version: 1.11.2 |
| Command: rm -rf globalSeq.buildbin-libdir && mkdir globalSeq.buildbin-libdir && C:\Users\biocbuild\bbs-3.9-bioc\R\bin\R.exe CMD INSTALL --merge-multiarch --build --library=globalSeq.buildbin-libdir globalSeq_1.11.2.tar.gz |
| StartedAt: 2019-04-09 08:04:21 -0400 (Tue, 09 Apr 2019) |
| EndedAt: 2019-04-09 08:06:05 -0400 (Tue, 09 Apr 2019) |
| EllapsedTime: 103.5 seconds |
| RetCode: 0 |
| Status: OK |
| PackageFile: globalSeq_1.11.2.zip |
| PackageFileSize: 732.2 KiB |
##############################################################################
##############################################################################
###
### Running command:
###
### rm -rf globalSeq.buildbin-libdir && mkdir globalSeq.buildbin-libdir && C:\Users\biocbuild\bbs-3.9-bioc\R\bin\R.exe CMD INSTALL --merge-multiarch --build --library=globalSeq.buildbin-libdir globalSeq_1.11.2.tar.gz
###
##############################################################################
##############################################################################
install for i386
* installing *source* package 'globalSeq' ...
** R
** data
*** moving datasets to lazyload DB
** inst
** byte-compile and prepare package for lazy loading
** help
*** installing help indices
converting help for package 'globalSeq'
finding HTML links ... done
cursus html
globalSeq-package html
intern.chromo html
intern.crude html
intern.estim html
intern.matrix html
intern.permu html
intern.plot html
intern.sam html
intern.score html
intern.select html
internal html
omnibus html
proprius html
toydata html
** building package indices
** installing vignettes
** testing if installed package can be loaded from temporary location
** testing if installed package can be loaded from final location
** testing if installed package keeps a record of temporary installation path
install for x64
* installing *source* package 'globalSeq' ...
** testing if installed package can be loaded
* MD5 sums
packaged installation of 'globalSeq' as globalSeq_1.11.2.zip
* DONE (globalSeq)