| Back to Multiple platform build/check report for BioC 3.9 |
|
This page was generated on 2019-04-09 13:31:49 -0400 (Tue, 09 Apr 2019).
| Package 655/1703 | Hostname | OS / Arch | INSTALL | BUILD | CHECK | BUILD BIN | ||||||
| genotypeeval 1.15.0 Jennifer Tom
| malbec2 | Linux (Ubuntu 18.04.2 LTS) / x86_64 | OK | OK | OK | |||||||
| tokay2 | Windows Server 2012 R2 Standard / x64 | OK | OK | ERROR | OK | |||||||
| celaya2 | OS X 10.11.6 El Capitan / x86_64 | OK | OK | OK | OK | |||||||
| merida2 | OS X 10.11.6 El Capitan / x86_64 | OK | OK | OK | [ OK ] |
| Package: genotypeeval |
| Version: 1.15.0 |
| Command: rm -rf genotypeeval.buildbin-libdir && mkdir genotypeeval.buildbin-libdir && /Users/biocbuild/BBS/utils/build-universal.sh genotypeeval_1.15.0.tar.gz /Library/Frameworks/R.framework/Versions/Current/Resources/bin/R genotypeeval.buildbin-libdir |
| StartedAt: 2019-04-09 05:27:22 -0400 (Tue, 09 Apr 2019) |
| EndedAt: 2019-04-09 05:28:47 -0400 (Tue, 09 Apr 2019) |
| EllapsedTime: 84.4 seconds |
| RetCode: 0 |
| Status: OK |
| PackageFile: genotypeeval_1.15.0.tgz |
| PackageFileSize: 548.8 KiB |
############################################################################## ############################################################################## ### ### Running command: ### ### rm -rf genotypeeval.buildbin-libdir && mkdir genotypeeval.buildbin-libdir && /Users/biocbuild/BBS/utils/build-universal.sh genotypeeval_1.15.0.tar.gz /Library/Frameworks/R.framework/Versions/Current/Resources/bin/R genotypeeval.buildbin-libdir ### ############################################################################## ############################################################################## >>>>>>> >>>>>>> INSTALLATION WITH 'R CMD INSTALL --preclean --no-multiarch --library=genotypeeval.buildbin-libdir genotypeeval_1.15.0.tar.gz' >>>>>>> * installing *source* package ‘genotypeeval’ ... ** R ** inst ** byte-compile and prepare package for lazy loading ** help *** installing help indices ** building package indices ** installing vignettes ** testing if installed package can be loaded * DONE (genotypeeval)