| Back to Multiple platform build/check report for BioC 3.9 | 
 | 
This page was generated on 2019-04-09 13:25:47 -0400 (Tue, 09 Apr 2019).
| Package 619/1703 | Hostname | OS / Arch | INSTALL | BUILD | CHECK | BUILD BIN | ||||||
| genefu 2.15.0 Benjamin Haibe-Kains 
 | malbec2 | Linux (Ubuntu 18.04.2 LTS) / x86_64 | OK | OK | OK |  | ||||||
| tokay2 | Windows Server 2012 R2 Standard / x64 | OK | OK | WARNINGS | OK |  | ||||||
| celaya2 | OS X 10.11.6 El Capitan / x86_64 | OK | OK | OK | OK |  | ||||||
| merida2 | OS X 10.11.6 El Capitan / x86_64 | OK | OK | OK | [ OK ] | 
| Package: genefu | 
| Version: 2.15.0 | 
| Command: rm -rf genefu.buildbin-libdir && mkdir genefu.buildbin-libdir && /Users/biocbuild/BBS/utils/build-universal.sh genefu_2.15.0.tar.gz /Library/Frameworks/R.framework/Versions/Current/Resources/bin/R genefu.buildbin-libdir | 
| StartedAt: 2019-04-09 05:24:36 -0400 (Tue, 09 Apr 2019) | 
| EndedAt: 2019-04-09 05:25:51 -0400 (Tue, 09 Apr 2019) | 
| EllapsedTime: 75.1 seconds | 
| RetCode: 0 | 
| Status: OK | 
| PackageFile: genefu_2.15.0.tgz | 
| PackageFileSize: 6.064 MiB | 
############################################################################## ############################################################################## ### ### Running command: ### ### rm -rf genefu.buildbin-libdir && mkdir genefu.buildbin-libdir && /Users/biocbuild/BBS/utils/build-universal.sh genefu_2.15.0.tar.gz /Library/Frameworks/R.framework/Versions/Current/Resources/bin/R genefu.buildbin-libdir ### ############################################################################## ############################################################################## >>>>>>> >>>>>>> INSTALLATION WITH 'R CMD INSTALL --preclean --no-multiarch --library=genefu.buildbin-libdir genefu_2.15.0.tar.gz' >>>>>>> * installing *source* package ‘genefu’ ... ** R ** data *** moving datasets to lazyload DB ** inst ** byte-compile and prepare package for lazy loading ** help *** installing help indices ** building package indices ** installing vignettes ** testing if installed package can be loaded * DONE (genefu)