| Back to Multiple platform build/check report for BioC 3.9 | 
  | 
This page was generated on 2019-04-09 13:29:01 -0400 (Tue, 09 Apr 2019).
| Package 629/1703 | Hostname | OS / Arch | INSTALL | BUILD | CHECK | BUILD BIN | ||||||
| geneRxCluster 1.19.0 Charles Berry 
  | malbec2 | Linux (Ubuntu 18.04.2 LTS) / x86_64 | OK | OK | OK | |||||||
| tokay2 | Windows Server 2012 R2 Standard / x64 | OK | OK | OK | OK | |||||||
| celaya2 | OS X 10.11.6 El Capitan / x86_64 | OK | OK | OK | OK | |||||||
| merida2 | OS X 10.11.6 El Capitan / x86_64 | OK | OK | OK | [ OK ] | 
| Package: geneRxCluster | 
| Version: 1.19.0 | 
| Command: rm -rf geneRxCluster.buildbin-libdir && mkdir geneRxCluster.buildbin-libdir && /Users/biocbuild/BBS/utils/build-universal.sh geneRxCluster_1.19.0.tar.gz /Library/Frameworks/R.framework/Versions/Current/Resources/bin/R geneRxCluster.buildbin-libdir | 
| StartedAt: 2019-04-09 05:25:23 -0400 (Tue, 09 Apr 2019) | 
| EndedAt: 2019-04-09 05:26:42 -0400 (Tue, 09 Apr 2019) | 
| EllapsedTime: 79.1 seconds | 
| RetCode: 0 | 
| Status: OK | 
| PackageFile: geneRxCluster_1.19.0.tgz | 
| PackageFileSize: 241 KiB | 
##############################################################################
##############################################################################
###
### Running command:
###
###   rm -rf geneRxCluster.buildbin-libdir && mkdir geneRxCluster.buildbin-libdir && /Users/biocbuild/BBS/utils/build-universal.sh geneRxCluster_1.19.0.tar.gz /Library/Frameworks/R.framework/Versions/Current/Resources/bin/R geneRxCluster.buildbin-libdir
###
##############################################################################
##############################################################################
>>>>>>> 
>>>>>>> INSTALLATION WITH 'R CMD INSTALL --preclean --no-multiarch --library=geneRxCluster.buildbin-libdir geneRxCluster_1.19.0.tar.gz'
>>>>>>> 
* installing *source* package ‘geneRxCluster’ ...
** libs
clang -I"/Library/Frameworks/R.framework/Resources/include" -DNDEBUG   -I/usr/local/include   -fPIC  -Wall -g -O2  -c cluster.c -o cluster.o
cluster.c:83:5: warning: add explicit braces to avoid dangling else [-Wdangling-else]
    else if (*pvj==HITAIL)
    ^
1 warning generated.
clang -dynamiclib -Wl,-headerpad_max_install_names -undefined dynamic_lookup -single_module -multiply_defined suppress -L/Library/Frameworks/R.framework/Resources/lib -L/usr/local/lib -o geneRxCluster.so cluster.o -F/Library/Frameworks/R.framework/.. -framework R -Wl,-framework -Wl,CoreFoundation
installing to /Users/biocbuild/bbs-3.9-bioc/meat/geneRxCluster.buildbin-libdir/geneRxCluster/libs
** R
** inst
** byte-compile and prepare package for lazy loading
** help
*** installing help indices
** building package indices
** installing vignettes
** testing if installed package can be loaded
* DONE (geneRxCluster)
>>>>>>> 
>>>>>>> FIXING LINKS FOR geneRxCluster.buildbin-libdir/geneRxCluster/libs//geneRxCluster.so
>>>>>>> 
install_name_tool -change "/usr/local/lib/libgcc_s.1.dylib" "/Library/Frameworks/R.framework/Versions/3.6/Resources/lib/libgcc_s.1.dylib" "geneRxCluster.buildbin-libdir/geneRxCluster/libs//geneRxCluster.so"
install_name_tool -change "/usr/local/lib/libgfortran.3.dylib" "/Library/Frameworks/R.framework/Versions/3.6/Resources/lib/libgfortran.3.dylib" "geneRxCluster.buildbin-libdir/geneRxCluster/libs//geneRxCluster.so"
install_name_tool -change "/usr/local/lib/libreadline.5.2.dylib" "/Library/Frameworks/R.framework/Versions/3.6/Resources/lib/libreadline.5.2.dylib" "geneRxCluster.buildbin-libdir/geneRxCluster/libs//geneRxCluster.so"
install_name_tool -change "/usr/local/lib/libreadline.dylib" "/Library/Frameworks/R.framework/Versions/3.6/Resources/lib/libreadline.dylib" "geneRxCluster.buildbin-libdir/geneRxCluster/libs//geneRxCluster.so"
install_name_tool -change "/usr/local/lib/libquadmath.0.dylib" "/Library/Frameworks/R.framework/Versions/3.6/Resources/lib/libquadmath.0.dylib" "geneRxCluster.buildbin-libdir/geneRxCluster/libs//geneRxCluster.so"