| Back to Multiple platform build/check report for BioC 3.9 | 
  | 
This page was generated on 2019-04-09 12:29:14 -0400 (Tue, 09 Apr 2019).
| Package 616/1703 | Hostname | OS / Arch | INSTALL | BUILD | CHECK | BUILD BIN | ||||||
| geneClassifiers 1.7.0 R Kuiper 
  | malbec2 | Linux (Ubuntu 18.04.2 LTS) / x86_64 | OK | OK | OK | |||||||
| tokay2 | Windows Server 2012 R2 Standard / x64 | OK | OK | OK | [ OK ] | |||||||
| celaya2 | OS X 10.11.6 El Capitan / x86_64 | OK | OK | OK | OK | |||||||
| merida2 | OS X 10.11.6 El Capitan / x86_64 | OK | OK | OK | OK | 
| Package: geneClassifiers | 
| Version: 1.7.0 | 
| Command: rm -rf geneClassifiers.buildbin-libdir && mkdir geneClassifiers.buildbin-libdir && C:\Users\biocbuild\bbs-3.9-bioc\R\bin\R.exe CMD INSTALL --merge-multiarch --build --library=geneClassifiers.buildbin-libdir geneClassifiers_1.7.0.tar.gz | 
| StartedAt: 2019-04-09 07:58:42 -0400 (Tue, 09 Apr 2019) | 
| EndedAt: 2019-04-09 07:59:28 -0400 (Tue, 09 Apr 2019) | 
| EllapsedTime: 46.3 seconds | 
| RetCode: 0 | 
| Status: OK | 
| PackageFile: geneClassifiers_1.7.0.zip | 
| PackageFileSize: 1.753 MiB | 
##############################################################################
##############################################################################
###
### Running command:
###
###   rm -rf geneClassifiers.buildbin-libdir && mkdir geneClassifiers.buildbin-libdir && C:\Users\biocbuild\bbs-3.9-bioc\R\bin\R.exe CMD INSTALL --merge-multiarch --build --library=geneClassifiers.buildbin-libdir geneClassifiers_1.7.0.tar.gz
###
##############################################################################
##############################################################################
install for i386
* installing *source* package 'geneClassifiers' ...
** R
** data
*** moving datasets to lazyload DB
** inst
** byte-compile and prepare package for lazy loading
** help
*** installing help indices
  converting help for package 'geneClassifiers'
    finding HTML links ... done
    ClassifierParameters                    html  
    ClassifierResults                       html  
    FixedExpressionData                     html  
    bracket-methods                         html  
    dim-methods                             html  
    exampleMAS5                             html  
    finding level-2 HTML links ... done
    getBatchCorrection-methods              html  
    getCitations-methods                    html  
    getClassifications-methods              html  
    getClassifier-methods                   html  
    getDecisionBoundaries-methods           html  
    getDescription-methods                  html  
    getEventChain-methods                   html  
    getIntercept-methods                    html  
    getMeans-methods                        html  
    getName-methods                         html  
    getNormalizationMethod-methods          html  
    getProbeNames-methods                   html  
    getScores-methods                       html  
    getSds-methods                          html  
    getTargetValue-methods                  html  
    getTrainingData-methods                 html  
    getWeightingType-methods                html  
    getWeights-methods                      html  
    runClassifier-methods                   html  
    setNormalizationMethod-methods          html  
    showClassifierList-methods              html  
** building package indices
** installing vignettes
** testing if installed package can be loaded from temporary location
** testing if installed package can be loaded from final location
** testing if installed package keeps a record of temporary installation path
install for x64
* installing *source* package 'geneClassifiers' ...
** testing if installed package can be loaded
* MD5 sums
packaged installation of 'geneClassifiers' as geneClassifiers_1.7.0.zip
* DONE (geneClassifiers)