| Back to Multiple platform build/check report for BioC 3.9 |
|
This page was generated on 2019-04-09 12:52:10 -0400 (Tue, 09 Apr 2019).
| Package 592/1703 | Hostname | OS / Arch | INSTALL | BUILD | CHECK | BUILD BIN | ||||||
| gaggle 1.51.0 Christopher Bare
| malbec2 | Linux (Ubuntu 18.04.2 LTS) / x86_64 | OK | OK | OK | |||||||
| tokay2 | Windows Server 2012 R2 Standard / x64 | OK | OK | OK | OK | |||||||
| celaya2 | OS X 10.11.6 El Capitan / x86_64 | OK | OK | OK | [ OK ] | |||||||
| merida2 | OS X 10.11.6 El Capitan / x86_64 | OK | OK | OK | OK |
| Package: gaggle |
| Version: 1.51.0 |
| Command: rm -rf gaggle.buildbin-libdir && mkdir gaggle.buildbin-libdir && /Users/biocbuild/BBS/utils/build-universal.sh gaggle_1.51.0.tar.gz /Library/Frameworks/R.framework/Versions/Current/Resources/bin/R gaggle.buildbin-libdir |
| StartedAt: 2019-04-09 07:04:06 -0400 (Tue, 09 Apr 2019) |
| EndedAt: 2019-04-09 07:04:27 -0400 (Tue, 09 Apr 2019) |
| EllapsedTime: 20.7 seconds |
| RetCode: 0 |
| Status: OK |
| PackageFile: gaggle_1.51.0.tgz |
| PackageFileSize: 323.1 KiB |
##############################################################################
##############################################################################
###
### Running command:
###
### rm -rf gaggle.buildbin-libdir && mkdir gaggle.buildbin-libdir && /Users/biocbuild/BBS/utils/build-universal.sh gaggle_1.51.0.tar.gz /Library/Frameworks/R.framework/Versions/Current/Resources/bin/R gaggle.buildbin-libdir
###
##############################################################################
##############################################################################
>>>>>>>
>>>>>>> INSTALLATION WITH 'R CMD INSTALL --preclean --no-multiarch --library=gaggle.buildbin-libdir gaggle_1.51.0.tar.gz'
>>>>>>>
* installing *source* package ‘gaggle’ ...
** using staged installation
** R
** inst
** byte-compile and prepare package for lazy loading
** help
*** installing help indices
** building package indices
** installing vignettes
** testing if installed package can be loaded from temporary location
onLoad -- libname: /Users/biocbuild/bbs-3.9-bioc/meat/gaggle.buildbin-libdir/00LOCK-gaggle/00new pkgname: gaggle
path to jar: /Users/biocbuild/bbs-3.9-bioc/meat/gaggle.buildbin-libdir/00LOCK-gaggle/00new/gaggle/jars/gaggleRShell.jar
script: gaggle.R $Revision: 4499 $ $Date: 2010-08-10 17:15:03 -0700 (Tue, 10 Aug 2010) $
os version: Mac OS X
jvm version: 1.8.0_191
You are using the wrong version of Java.
Please see http://gaggle.systemsbiology.org/docs/html/java
** testing if installed package can be loaded from final location
onLoad -- libname: /Users/biocbuild/bbs-3.9-bioc/meat/gaggle.buildbin-libdir pkgname: gaggle
path to jar: /Users/biocbuild/bbs-3.9-bioc/meat/gaggle.buildbin-libdir/gaggle/jars/gaggleRShell.jar
script: gaggle.R $Revision: 4499 $ $Date: 2010-08-10 17:15:03 -0700 (Tue, 10 Aug 2010) $
os version: Mac OS X
jvm version: 1.8.0_191
You are using the wrong version of Java.
Please see http://gaggle.systemsbiology.org/docs/html/java
** testing if installed package keeps a record of temporary installation path
* DONE (gaggle)