| Back to Multiple platform build/check report for BioC 3.9 | 
 | 
This page was generated on 2019-04-09 13:06:58 -0400 (Tue, 09 Apr 2019).
| Package 602/1703 | Hostname | OS / Arch | INSTALL | BUILD | CHECK | BUILD BIN | ||||||
| gCMAPWeb 1.23.0 Thomas Sandmann 
 | malbec2 | Linux (Ubuntu 18.04.2 LTS) / x86_64 | OK | OK | OK |  | ||||||
| tokay2 | Windows Server 2012 R2 Standard / x64 | ...NOT SUPPORTED... | ||||||||||
| celaya2 | OS X 10.11.6 El Capitan / x86_64 | OK | OK | OK | [ OK ] |  | ||||||
| merida2 | OS X 10.11.6 El Capitan / x86_64 | OK | OK | OK | OK | |||||||
| Package: gCMAPWeb | 
| Version: 1.23.0 | 
| Command: rm -rf gCMAPWeb.buildbin-libdir && mkdir gCMAPWeb.buildbin-libdir && /Users/biocbuild/BBS/utils/build-universal.sh gCMAPWeb_1.23.0.tar.gz /Library/Frameworks/R.framework/Versions/Current/Resources/bin/R gCMAPWeb.buildbin-libdir | 
| StartedAt: 2019-04-09 07:04:33 -0400 (Tue, 09 Apr 2019) | 
| EndedAt: 2019-04-09 07:05:19 -0400 (Tue, 09 Apr 2019) | 
| EllapsedTime: 46.3 seconds | 
| RetCode: 0 | 
| Status: OK | 
| PackageFile: gCMAPWeb_1.23.0.tgz | 
| PackageFileSize: 2.919 MiB | 
############################################################################## ############################################################################## ### ### Running command: ### ### rm -rf gCMAPWeb.buildbin-libdir && mkdir gCMAPWeb.buildbin-libdir && /Users/biocbuild/BBS/utils/build-universal.sh gCMAPWeb_1.23.0.tar.gz /Library/Frameworks/R.framework/Versions/Current/Resources/bin/R gCMAPWeb.buildbin-libdir ### ############################################################################## ############################################################################## >>>>>>> >>>>>>> INSTALLATION WITH 'R CMD INSTALL --preclean --no-multiarch --library=gCMAPWeb.buildbin-libdir gCMAPWeb_1.23.0.tar.gz' >>>>>>> * installing *source* package ‘gCMAPWeb’ ... ** using staged installation ** R ** data ** inst ** byte-compile and prepare package for lazy loading ** help *** installing help indices ** building package indices ** installing vignettes ** testing if installed package can be loaded from temporary location ** testing if installed package can be loaded from final location ** testing if installed package keeps a record of temporary installation path * DONE (gCMAPWeb)