| Back to Multiple platform build/check report for BioC 3.9 | 
 | 
This page was generated on 2019-04-09 13:27:30 -0400 (Tue, 09 Apr 2019).
| Package 601/1703 | Hostname | OS / Arch | INSTALL | BUILD | CHECK | BUILD BIN | ||||||
| gCMAP 1.27.0 Thomas Sandmann 
 | malbec2 | Linux (Ubuntu 18.04.2 LTS) / x86_64 | OK | OK | OK |  | ||||||
| tokay2 | Windows Server 2012 R2 Standard / x64 | ...NOT SUPPORTED... | ||||||||||
| celaya2 | OS X 10.11.6 El Capitan / x86_64 | OK | OK | OK | OK |  | ||||||
| merida2 | OS X 10.11.6 El Capitan / x86_64 | OK | OK | OK | [ OK ] | |||||||
| Package: gCMAP | 
| Version: 1.27.0 | 
| Command: rm -rf gCMAP.buildbin-libdir && mkdir gCMAP.buildbin-libdir && /Users/biocbuild/BBS/utils/build-universal.sh gCMAP_1.27.0.tar.gz /Library/Frameworks/R.framework/Versions/Current/Resources/bin/R gCMAP.buildbin-libdir | 
| StartedAt: 2019-04-09 05:23:07 -0400 (Tue, 09 Apr 2019) | 
| EndedAt: 2019-04-09 05:24:32 -0400 (Tue, 09 Apr 2019) | 
| EllapsedTime: 84.3 seconds | 
| RetCode: 0 | 
| Status: OK | 
| PackageFile: gCMAP_1.27.0.tgz | 
| PackageFileSize: 1.222 MiB | 
############################################################################## ############################################################################## ### ### Running command: ### ### rm -rf gCMAP.buildbin-libdir && mkdir gCMAP.buildbin-libdir && /Users/biocbuild/BBS/utils/build-universal.sh gCMAP_1.27.0.tar.gz /Library/Frameworks/R.framework/Versions/Current/Resources/bin/R gCMAP.buildbin-libdir ### ############################################################################## ############################################################################## >>>>>>> >>>>>>> INSTALLATION WITH 'R CMD INSTALL --preclean --no-multiarch --library=gCMAP.buildbin-libdir gCMAP_1.27.0.tar.gz' >>>>>>> * installing *source* package ‘gCMAP’ ... ** R ** data ** inst ** byte-compile and prepare package for lazy loading ** help *** installing help indices ** building package indices ** installing vignettes ** testing if installed package can be loaded * DONE (gCMAP)