| Back to Multiple platform build/check report for BioC 3.9 |
|
This page was generated on 2019-04-09 12:28:49 -0400 (Tue, 09 Apr 2019).
| Package 587/1703 | Hostname | OS / Arch | INSTALL | BUILD | CHECK | BUILD BIN | ||||||
| funtooNorm 1.7.0 Kathleen Klein
| malbec2 | Linux (Ubuntu 18.04.2 LTS) / x86_64 | OK | OK | OK | |||||||
| tokay2 | Windows Server 2012 R2 Standard / x64 | OK | OK | OK | [ OK ] | |||||||
| celaya2 | OS X 10.11.6 El Capitan / x86_64 | OK | OK | OK | OK | |||||||
| merida2 | OS X 10.11.6 El Capitan / x86_64 | OK | OK | OK | OK |
| Package: funtooNorm |
| Version: 1.7.0 |
| Command: rm -rf funtooNorm.buildbin-libdir && mkdir funtooNorm.buildbin-libdir && C:\Users\biocbuild\bbs-3.9-bioc\R\bin\R.exe CMD INSTALL --merge-multiarch --build --library=funtooNorm.buildbin-libdir funtooNorm_1.7.0.tar.gz |
| StartedAt: 2019-04-09 07:57:05 -0400 (Tue, 09 Apr 2019) |
| EndedAt: 2019-04-09 07:58:23 -0400 (Tue, 09 Apr 2019) |
| EllapsedTime: 77.7 seconds |
| RetCode: 0 |
| Status: OK |
| PackageFile: funtooNorm_1.7.0.zip |
| PackageFileSize: 2.557 MiB |
##############################################################################
##############################################################################
###
### Running command:
###
### rm -rf funtooNorm.buildbin-libdir && mkdir funtooNorm.buildbin-libdir && C:\Users\biocbuild\bbs-3.9-bioc\R\bin\R.exe CMD INSTALL --merge-multiarch --build --library=funtooNorm.buildbin-libdir funtooNorm_1.7.0.tar.gz
###
##############################################################################
##############################################################################
install for i386
* installing *source* package 'funtooNorm' ...
** R
** inst
** byte-compile and prepare package for lazy loading
** help
*** installing help indices
converting help for package 'funtooNorm'
finding HTML links ... done
SampleSet-class html
agreement html
fromGenStudFiles html
fromRGChannelSet html
funtooNorm-package html
funtooNorm html
getGRanges html
getNormBeta html
getNormM html
getRawBeta html
getSnpM html
plotValidationGraph html
show-SampleSet-method html
** building package indices
** installing vignettes
** testing if installed package can be loaded from temporary location
** testing if installed package can be loaded from final location
** testing if installed package keeps a record of temporary installation path
install for x64
* installing *source* package 'funtooNorm' ...
** testing if installed package can be loaded
* MD5 sums
packaged installation of 'funtooNorm' as funtooNorm_1.7.0.zip
* DONE (funtooNorm)