| Back to Multiple platform build/check report for BioC 3.9 | 
 | 
This page was generated on 2019-04-09 13:30:36 -0400 (Tue, 09 Apr 2019).
| Package 549/1703 | Hostname | OS / Arch | INSTALL | BUILD | CHECK | BUILD BIN | ||||||
| flowcatchR 1.17.0 Federico Marini 
 | malbec2 | Linux (Ubuntu 18.04.2 LTS) / x86_64 | OK | OK | OK |  | ||||||
| tokay2 | Windows Server 2012 R2 Standard / x64 | OK | OK | OK | OK |  | ||||||
| celaya2 | OS X 10.11.6 El Capitan / x86_64 | OK | OK | OK | OK |  | ||||||
| merida2 | OS X 10.11.6 El Capitan / x86_64 | OK | OK | OK | [ OK ] | 
| Package: flowcatchR | 
| Version: 1.17.0 | 
| Command: rm -rf flowcatchR.buildbin-libdir && mkdir flowcatchR.buildbin-libdir && /Users/biocbuild/BBS/utils/build-universal.sh flowcatchR_1.17.0.tar.gz /Library/Frameworks/R.framework/Versions/Current/Resources/bin/R flowcatchR.buildbin-libdir | 
| StartedAt: 2019-04-09 05:19:19 -0400 (Tue, 09 Apr 2019) | 
| EndedAt: 2019-04-09 05:20:35 -0400 (Tue, 09 Apr 2019) | 
| EllapsedTime: 75.4 seconds | 
| RetCode: 0 | 
| Status: OK | 
| PackageFile: flowcatchR_1.17.0.tgz | 
| PackageFileSize: 9.006 MiB | 
############################################################################## ############################################################################## ### ### Running command: ### ### rm -rf flowcatchR.buildbin-libdir && mkdir flowcatchR.buildbin-libdir && /Users/biocbuild/BBS/utils/build-universal.sh flowcatchR_1.17.0.tar.gz /Library/Frameworks/R.framework/Versions/Current/Resources/bin/R flowcatchR.buildbin-libdir ### ############################################################################## ############################################################################## >>>>>>> >>>>>>> INSTALLATION WITH 'R CMD INSTALL --preclean --no-multiarch --library=flowcatchR.buildbin-libdir flowcatchR_1.17.0.tar.gz' >>>>>>> * installing *source* package ‘flowcatchR’ ... ** R ** data *** moving datasets to lazyload DB ** inst ** byte-compile and prepare package for lazy loading ** help *** installing help indices ** building package indices ** installing vignettes ** testing if installed package can be loaded * DONE (flowcatchR)