| Back to Multiple platform build/check report for BioC 3.9 |
|
This page was generated on 2019-04-09 11:58:15 -0400 (Tue, 09 Apr 2019).
| Package 572/1703 | Hostname | OS / Arch | INSTALL | BUILD | CHECK | BUILD BIN | ||||||
| flowTrans 1.35.1 Greg Finak
| malbec2 | Linux (Ubuntu 18.04.2 LTS) / x86_64 | OK | OK | OK | |||||||
| tokay2 | Windows Server 2012 R2 Standard / x64 | OK | OK | OK | [ OK ] | |||||||
| celaya2 | OS X 10.11.6 El Capitan / x86_64 | OK | OK | OK | OK | |||||||
| merida2 | OS X 10.11.6 El Capitan / x86_64 | OK | OK | OK | OK |
| Package: flowTrans |
| Version: 1.35.1 |
| Command: rm -rf flowTrans.buildbin-libdir && mkdir flowTrans.buildbin-libdir && C:\Users\biocbuild\bbs-3.9-bioc\R\bin\R.exe CMD INSTALL --merge-multiarch --build --library=flowTrans.buildbin-libdir flowTrans_1.35.1.tar.gz |
| StartedAt: 2019-04-09 07:56:09 -0400 (Tue, 09 Apr 2019) |
| EndedAt: 2019-04-09 07:56:54 -0400 (Tue, 09 Apr 2019) |
| EllapsedTime: 45.5 seconds |
| RetCode: 0 |
| Status: OK |
| PackageFile: flowTrans_1.35.1.zip |
| PackageFileSize: 486.1 KiB |
##############################################################################
##############################################################################
###
### Running command:
###
### rm -rf flowTrans.buildbin-libdir && mkdir flowTrans.buildbin-libdir && C:\Users\biocbuild\bbs-3.9-bioc\R\bin\R.exe CMD INSTALL --merge-multiarch --build --library=flowTrans.buildbin-libdir flowTrans_1.35.1.tar.gz
###
##############################################################################
##############################################################################
install for i386
* installing *source* package 'flowTrans' ...
** R
** inst
** byte-compile and prepare package for lazy loading
** help
*** installing help indices
converting help for package 'flowTrans'
finding HTML links ... done
extractParams html
flowTrans-methods html
flowTrans-package html
flowTrans html
flowTransResult-class html
summary-methods html
summary.flowTransResult html
** building package indices
** installing vignettes
** testing if installed package can be loaded from temporary location
** testing if installed package can be loaded from final location
** testing if installed package keeps a record of temporary installation path
install for x64
* installing *source* package 'flowTrans' ...
** testing if installed package can be loaded
* MD5 sums
packaged installation of 'flowTrans' as flowTrans_1.35.1.zip
* DONE (flowTrans)