| Back to Multiple platform build/check report for BioC 3.9 | 
 | 
This page was generated on 2019-04-09 13:25:15 -0400 (Tue, 09 Apr 2019).
| Package 561/1703 | Hostname | OS / Arch | INSTALL | BUILD | CHECK | BUILD BIN | ||||||
| flowMeans 1.43.1 Nima Aghaeepour 
 | malbec2 | Linux (Ubuntu 18.04.2 LTS) / x86_64 | OK | OK | OK |  | ||||||
| tokay2 | Windows Server 2012 R2 Standard / x64 | OK | OK | OK | OK |  | ||||||
| celaya2 | OS X 10.11.6 El Capitan / x86_64 | OK | OK | WARNINGS | OK |  | ||||||
| merida2 | OS X 10.11.6 El Capitan / x86_64 | OK | OK | WARNINGS | [ OK ] | 
| Package: flowMeans | 
| Version: 1.43.1 | 
| Command: rm -rf flowMeans.buildbin-libdir && mkdir flowMeans.buildbin-libdir && /Users/biocbuild/BBS/utils/build-universal.sh flowMeans_1.43.1.tar.gz /Library/Frameworks/R.framework/Versions/Current/Resources/bin/R flowMeans.buildbin-libdir | 
| StartedAt: 2019-04-09 05:20:17 -0400 (Tue, 09 Apr 2019) | 
| EndedAt: 2019-04-09 05:21:29 -0400 (Tue, 09 Apr 2019) | 
| EllapsedTime: 72.3 seconds | 
| RetCode: 0 | 
| Status: OK | 
| PackageFile: flowMeans_1.43.1.tgz | 
| PackageFileSize: 1.929 MiB | 
############################################################################## ############################################################################## ### ### Running command: ### ### rm -rf flowMeans.buildbin-libdir && mkdir flowMeans.buildbin-libdir && /Users/biocbuild/BBS/utils/build-universal.sh flowMeans_1.43.1.tar.gz /Library/Frameworks/R.framework/Versions/Current/Resources/bin/R flowMeans.buildbin-libdir ### ############################################################################## ############################################################################## >>>>>>> >>>>>>> INSTALLATION WITH 'R CMD INSTALL --preclean --no-multiarch --library=flowMeans.buildbin-libdir flowMeans_1.43.1.tar.gz' >>>>>>> * installing *source* package ‘flowMeans’ ... ** R ** data ** inst ** byte-compile and prepare package for lazy loading Warning in rgl.init(initValue, onlyNULL) : RGL: GLX extension missing on server Warning: 'rgl_init' failed, running with rgl.useNULL = TRUE ** help *** installing help indices ** building package indices ** installing vignettes ** testing if installed package can be loaded Warning in rgl.init(initValue, onlyNULL) : RGL: GLX extension missing on server Warning: 'rgl_init' failed, running with rgl.useNULL = TRUE * DONE (flowMeans)