| Back to Multiple platform build/check report for BioC 3.9 | 
 | 
This page was generated on 2019-04-09 13:28:12 -0400 (Tue, 09 Apr 2019).
| Package 557/1703 | Hostname | OS / Arch | INSTALL | BUILD | CHECK | BUILD BIN | ||||||
| flowFit 1.21.1 Davide Rambaldi 
 | malbec2 | Linux (Ubuntu 18.04.2 LTS) / x86_64 | OK | OK | OK |  | ||||||
| tokay2 | Windows Server 2012 R2 Standard / x64 | OK | OK | OK | OK |  | ||||||
| celaya2 | OS X 10.11.6 El Capitan / x86_64 | OK | OK | OK | OK |  | ||||||
| merida2 | OS X 10.11.6 El Capitan / x86_64 | OK | OK | OK | [ OK ] | 
| Package: flowFit | 
| Version: 1.21.1 | 
| Command: rm -rf flowFit.buildbin-libdir && mkdir flowFit.buildbin-libdir && /Users/biocbuild/BBS/utils/build-universal.sh flowFit_1.21.1.tar.gz /Library/Frameworks/R.framework/Versions/Current/Resources/bin/R flowFit.buildbin-libdir | 
| StartedAt: 2019-04-09 05:19:57 -0400 (Tue, 09 Apr 2019) | 
| EndedAt: 2019-04-09 05:21:03 -0400 (Tue, 09 Apr 2019) | 
| EllapsedTime: 65.8 seconds | 
| RetCode: 0 | 
| Status: OK | 
| PackageFile: flowFit_1.21.1.tgz | 
| PackageFileSize: 938.4 KiB | 
############################################################################## ############################################################################## ### ### Running command: ### ### rm -rf flowFit.buildbin-libdir && mkdir flowFit.buildbin-libdir && /Users/biocbuild/BBS/utils/build-universal.sh flowFit_1.21.1.tar.gz /Library/Frameworks/R.framework/Versions/Current/Resources/bin/R flowFit.buildbin-libdir ### ############################################################################## ############################################################################## >>>>>>> >>>>>>> INSTALLATION WITH 'R CMD INSTALL --preclean --no-multiarch --library=flowFit.buildbin-libdir flowFit_1.21.1.tar.gz' >>>>>>> * installing *source* package ‘flowFit’ ... ** R ** demo ** inst ** byte-compile and prepare package for lazy loading ** help *** installing help indices ** building package indices ** installing vignettes ** testing if installed package can be loaded * DONE (flowFit)