| Back to Multiple platform build/check report for BioC 3.9 | 
 | 
This page was generated on 2019-04-09 13:24:50 -0400 (Tue, 09 Apr 2019).
| Package 558/1703 | Hostname | OS / Arch | INSTALL | BUILD | CHECK | BUILD BIN | ||||||
| flowFP 1.41.1 Herb Holyst 
 | malbec2 | Linux (Ubuntu 18.04.2 LTS) / x86_64 | OK | OK | OK |  | ||||||
| tokay2 | Windows Server 2012 R2 Standard / x64 | OK | OK | OK | OK |  | ||||||
| celaya2 | OS X 10.11.6 El Capitan / x86_64 | OK | OK | OK | OK |  | ||||||
| merida2 | OS X 10.11.6 El Capitan / x86_64 | OK | OK | OK | [ OK ] | 
| Package: flowFP | 
| Version: 1.41.1 | 
| Command: rm -rf flowFP.buildbin-libdir && mkdir flowFP.buildbin-libdir && /Users/biocbuild/BBS/utils/build-universal.sh flowFP_1.41.1.tar.gz /Library/Frameworks/R.framework/Versions/Current/Resources/bin/R flowFP.buildbin-libdir | 
| StartedAt: 2019-04-09 05:20:02 -0400 (Tue, 09 Apr 2019) | 
| EndedAt: 2019-04-09 05:21:07 -0400 (Tue, 09 Apr 2019) | 
| EllapsedTime: 65.8 seconds | 
| RetCode: 0 | 
| Status: OK | 
| PackageFile: flowFP_1.41.1.tgz | 
| PackageFileSize: 5.286 MiB | 
############################################################################## ############################################################################## ### ### Running command: ### ### rm -rf flowFP.buildbin-libdir && mkdir flowFP.buildbin-libdir && /Users/biocbuild/BBS/utils/build-universal.sh flowFP_1.41.1.tar.gz /Library/Frameworks/R.framework/Versions/Current/Resources/bin/R flowFP.buildbin-libdir ### ############################################################################## ############################################################################## >>>>>>> >>>>>>> INSTALLATION WITH 'R CMD INSTALL --preclean --no-multiarch --library=flowFP.buildbin-libdir flowFP_1.41.1.tar.gz' >>>>>>> * installing *source* package ‘flowFP’ ... configure: creating ./config.status config.status: creating src/Makevars ** libs clang -I"/Library/Frameworks/R.framework/Resources/include" -DNDEBUG -I/usr/local/include -fPIC -Wall -g -O2 -c flowFP.c -o flowFP.o clang -I"/Library/Frameworks/R.framework/Resources/include" -DNDEBUG -I/usr/local/include -fPIC -Wall -g -O2 -c init.c -o init.o clang -I"/Library/Frameworks/R.framework/Resources/include" -DNDEBUG -I/usr/local/include -fPIC -Wall -g -O2 -c split_utils.c -o split_utils.o clang -dynamiclib -Wl,-headerpad_max_install_names -undefined dynamic_lookup -single_module -multiply_defined suppress -L/Library/Frameworks/R.framework/Resources/lib -L/usr/local/lib -o flowFP.so flowFP.o init.o split_utils.o -F/Library/Frameworks/R.framework/.. -framework R -Wl,-framework -Wl,CoreFoundation installing to /Users/biocbuild/bbs-3.9-bioc/meat/flowFP.buildbin-libdir/flowFP/libs ** R ** data ** inst ** byte-compile and prepare package for lazy loading Creating a generic function for ‘append’ from package ‘base’ in package ‘flowFP’ ** help *** installing help indices ** building package indices ** installing vignettes ** testing if installed package can be loaded * DONE (flowFP) >>>>>>> >>>>>>> FIXING LINKS FOR flowFP.buildbin-libdir/flowFP/libs//flowFP.so >>>>>>> install_name_tool -change "/usr/local/lib/libgcc_s.1.dylib" "/Library/Frameworks/R.framework/Versions/3.6/Resources/lib/libgcc_s.1.dylib" "flowFP.buildbin-libdir/flowFP/libs//flowFP.so" install_name_tool -change "/usr/local/lib/libgfortran.3.dylib" "/Library/Frameworks/R.framework/Versions/3.6/Resources/lib/libgfortran.3.dylib" "flowFP.buildbin-libdir/flowFP/libs//flowFP.so" install_name_tool -change "/usr/local/lib/libreadline.5.2.dylib" "/Library/Frameworks/R.framework/Versions/3.6/Resources/lib/libreadline.5.2.dylib" "flowFP.buildbin-libdir/flowFP/libs//flowFP.so" install_name_tool -change "/usr/local/lib/libreadline.dylib" "/Library/Frameworks/R.framework/Versions/3.6/Resources/lib/libreadline.dylib" "flowFP.buildbin-libdir/flowFP/libs//flowFP.so" install_name_tool -change "/usr/local/lib/libquadmath.0.dylib" "/Library/Frameworks/R.framework/Versions/3.6/Resources/lib/libquadmath.0.dylib" "flowFP.buildbin-libdir/flowFP/libs//flowFP.so"