| Back to Multiple platform build/check report for BioC 3.9 |
|
This page was generated on 2019-04-09 13:23:38 -0400 (Tue, 09 Apr 2019).
| Package 554/1703 | Hostname | OS / Arch | INSTALL | BUILD | CHECK | BUILD BIN | ||||||
| flowCore 1.49.10 Mike Jiang
| malbec2 | Linux (Ubuntu 18.04.2 LTS) / x86_64 | OK | OK | OK | |||||||
| tokay2 | Windows Server 2012 R2 Standard / x64 | OK | OK | WARNINGS | OK | |||||||
| celaya2 | OS X 10.11.6 El Capitan / x86_64 | OK | OK | OK | OK | |||||||
| merida2 | OS X 10.11.6 El Capitan / x86_64 | OK | OK | [ OK ] | OK |
| Package: flowCore |
| Version: 1.49.10 |
| Command: /Library/Frameworks/R.framework/Versions/Current/Resources/bin/R CMD check --install=check:flowCore.install-out.txt --library=/Library/Frameworks/R.framework/Versions/Current/Resources/library --no-vignettes --timings flowCore_1.49.10.tar.gz |
| StartedAt: 2019-04-09 00:54:06 -0400 (Tue, 09 Apr 2019) |
| EndedAt: 2019-04-09 00:56:36 -0400 (Tue, 09 Apr 2019) |
| EllapsedTime: 149.9 seconds |
| RetCode: 0 |
| Status: OK |
| CheckDir: flowCore.Rcheck |
| Warnings: 0 |
##############################################################################
##############################################################################
###
### Running command:
###
### /Library/Frameworks/R.framework/Versions/Current/Resources/bin/R CMD check --install=check:flowCore.install-out.txt --library=/Library/Frameworks/R.framework/Versions/Current/Resources/library --no-vignettes --timings flowCore_1.49.10.tar.gz
###
##############################################################################
##############################################################################
* using log directory ‘/Users/biocbuild/bbs-3.9-bioc/meat/flowCore.Rcheck’
* using R Under development (unstable) (2018-11-27 r75683)
* using platform: x86_64-apple-darwin15.6.0 (64-bit)
* using session charset: UTF-8
* using option ‘--no-vignettes’
* checking for file ‘flowCore/DESCRIPTION’ ... OK
* this is package ‘flowCore’ version ‘1.49.10’
* package encoding: UTF-8
* checking package namespace information ... OK
* checking package dependencies ... OK
* checking if this is a source package ... OK
* checking if there is a namespace ... OK
* checking for hidden files and directories ... OK
* checking for portable file names ... OK
* checking for sufficient/correct file permissions ... OK
* checking whether package ‘flowCore’ can be installed ... OK
* checking installed package size ... NOTE
installed size is 8.6Mb
sub-directories of 1Mb or more:
R 1.3Mb
data 5.0Mb
extdata 1.1Mb
* checking package directory ... OK
* checking ‘build’ directory ... OK
* checking DESCRIPTION meta-information ... OK
* checking top-level files ... OK
* checking for left-over files ... OK
* checking index information ... OK
* checking package subdirectories ... OK
* checking R files for non-ASCII characters ... OK
* checking R files for syntax errors ... OK
* checking whether the package can be loaded ... OK
* checking whether the package can be loaded with stated dependencies ... OK
* checking whether the package can be unloaded cleanly ... OK
* checking whether the namespace can be loaded with stated dependencies ... OK
* checking whether the namespace can be unloaded cleanly ... OK
* checking dependencies in R code ... OK
* checking S3 generic/method consistency ... OK
* checking replacement functions ... OK
* checking foreign function calls ... OK
* checking R code for possible problems ... OK
* checking Rd files ... OK
* checking Rd metadata ... OK
* checking Rd cross-references ... OK
* checking for missing documentation entries ... OK
* checking for code/documentation mismatches ... OK
* checking Rd \usage sections ... OK
* checking Rd contents ... OK
* checking for unstated dependencies in examples ... OK
* checking contents of ‘data’ directory ... OK
* checking data for non-ASCII characters ... OK
* checking data for ASCII and uncompressed saves ... OK
* checking line endings in C/C++/Fortran sources/headers ... OK
* checking line endings in Makefiles ... OK
* checking compilation flags in Makevars ... OK
* checking for GNU extensions in Makefiles ... OK
* checking for portable use of $(BLAS_LIBS) and $(LAPACK_LIBS) ... OK
* checking compiled code ... NOTE
Note: information on .o files is not available
* checking sizes of PDF files under ‘inst/doc’ ... OK
* checking installed files from ‘inst/doc’ ... OK
* checking files in ‘vignettes’ ... OK
* checking examples ... OK
* checking for unstated dependencies in ‘tests’ ... OK
* checking tests ...
Running ‘testthat.R’
OK
* checking for unstated dependencies in vignettes ... OK
* checking package vignettes in ‘inst/doc’ ... OK
* checking running R code from vignettes ... SKIPPED
* checking re-building of vignette outputs ... SKIPPED
* checking PDF version of manual ... OK
* DONE
Status: 2 NOTEs
See
‘/Users/biocbuild/bbs-3.9-bioc/meat/flowCore.Rcheck/00check.log’
for details.
flowCore.Rcheck/00install.out
############################################################################## ############################################################################## ### ### Running command: ### ### /Library/Frameworks/R.framework/Versions/Current/Resources/bin/R CMD INSTALL flowCore ### ############################################################################## ############################################################################## * installing to library ‘/Library/Frameworks/R.framework/Versions/3.6/Resources/library’ * installing *source* package ‘flowCore’ ... ** libs clang++ -std=gnu++11 -I"/Library/Frameworks/R.framework/Resources/include" -DNDEBUG -I"/Library/Frameworks/R.framework/Versions/3.6/Resources/library/Rcpp/include" -I"/Library/Frameworks/R.framework/Versions/3.6/Resources/library/BH/include" -I/usr/local/include -fPIC -Wall -g -O2 -c FastLogicle.cpp -o FastLogicle.o clang++ -std=gnu++11 -I"/Library/Frameworks/R.framework/Resources/include" -DNDEBUG -I"/Library/Frameworks/R.framework/Versions/3.6/Resources/library/Rcpp/include" -I"/Library/Frameworks/R.framework/Versions/3.6/Resources/library/BH/include" -I/usr/local/include -fPIC -Wall -g -O2 -c Hyperlog.cpp -o Hyperlog.o clang++ -std=gnu++11 -I"/Library/Frameworks/R.framework/Resources/include" -DNDEBUG -I"/Library/Frameworks/R.framework/Versions/3.6/Resources/library/Rcpp/include" -I"/Library/Frameworks/R.framework/Versions/3.6/Resources/library/BH/include" -I/usr/local/include -fPIC -Wall -g -O2 -c Logicle.cpp -o Logicle.o clang++ -std=gnu++11 -I"/Library/Frameworks/R.framework/Resources/include" -DNDEBUG -I"/Library/Frameworks/R.framework/Versions/3.6/Resources/library/Rcpp/include" -I"/Library/Frameworks/R.framework/Versions/3.6/Resources/library/BH/include" -I/usr/local/include -fPIC -Wall -g -O2 -c RcppExports.cpp -o RcppExports.o clang++ -std=gnu++11 -I"/Library/Frameworks/R.framework/Resources/include" -DNDEBUG -I"/Library/Frameworks/R.framework/Versions/3.6/Resources/library/Rcpp/include" -I"/Library/Frameworks/R.framework/Versions/3.6/Resources/library/BH/include" -I/usr/local/include -fPIC -Wall -g -O2 -c biexponential.cpp -o biexponential.o clang++ -std=gnu++11 -I"/Library/Frameworks/R.framework/Resources/include" -DNDEBUG -I"/Library/Frameworks/R.framework/Versions/3.6/Resources/library/Rcpp/include" -I"/Library/Frameworks/R.framework/Versions/3.6/Resources/library/BH/include" -I/usr/local/include -fPIC -Wall -g -O2 -c convertRawBytes.cpp -o convertRawBytes.o clang++ -std=gnu++11 -I"/Library/Frameworks/R.framework/Resources/include" -DNDEBUG -I"/Library/Frameworks/R.framework/Versions/3.6/Resources/library/Rcpp/include" -I"/Library/Frameworks/R.framework/Versions/3.6/Resources/library/BH/include" -I/usr/local/include -fPIC -Wall -g -O2 -c fcsTextParse.cpp -o fcsTextParse.o clang++ -std=gnu++11 -I"/Library/Frameworks/R.framework/Resources/include" -DNDEBUG -I"/Library/Frameworks/R.framework/Versions/3.6/Resources/library/Rcpp/include" -I"/Library/Frameworks/R.framework/Versions/3.6/Resources/library/BH/include" -I/usr/local/include -fPIC -Wall -g -O2 -c hyperlogTransform.cpp -o hyperlogTransform.o clang++ -std=gnu++11 -I"/Library/Frameworks/R.framework/Resources/include" -DNDEBUG -I"/Library/Frameworks/R.framework/Versions/3.6/Resources/library/Rcpp/include" -I"/Library/Frameworks/R.framework/Versions/3.6/Resources/library/BH/include" -I/usr/local/include -fPIC -Wall -g -O2 -c inPolygon.cpp -o inPolygon.o clang++ -std=gnu++11 -I"/Library/Frameworks/R.framework/Resources/include" -DNDEBUG -I"/Library/Frameworks/R.framework/Versions/3.6/Resources/library/Rcpp/include" -I"/Library/Frameworks/R.framework/Versions/3.6/Resources/library/BH/include" -I/usr/local/include -fPIC -Wall -g -O2 -c inPolytope.cpp -o inPolytope.o clang++ -std=gnu++11 -I"/Library/Frameworks/R.framework/Resources/include" -DNDEBUG -I"/Library/Frameworks/R.framework/Versions/3.6/Resources/library/Rcpp/include" -I"/Library/Frameworks/R.framework/Versions/3.6/Resources/library/BH/include" -I/usr/local/include -fPIC -Wall -g -O2 -c logicleTransform.cpp -o logicleTransform.o clang++ -std=gnu++11 -I"/Library/Frameworks/R.framework/Resources/include" -DNDEBUG -I"/Library/Frameworks/R.framework/Versions/3.6/Resources/library/Rcpp/include" -I"/Library/Frameworks/R.framework/Versions/3.6/Resources/library/BH/include" -I/usr/local/include -fPIC -Wall -g -O2 -c pairVectorRcppWrap.cpp -o pairVectorRcppWrap.o clang++ -std=gnu++11 -I"/Library/Frameworks/R.framework/Resources/include" -DNDEBUG -I"/Library/Frameworks/R.framework/Versions/3.6/Resources/library/Rcpp/include" -I"/Library/Frameworks/R.framework/Versions/3.6/Resources/library/BH/include" -I/usr/local/include -fPIC -Wall -g -O2 -c poly_centroid.cpp -o poly_centroid.o clang++ -std=gnu++11 -I"/Library/Frameworks/R.framework/Resources/include" -DNDEBUG -I"/Library/Frameworks/R.framework/Versions/3.6/Resources/library/Rcpp/include" -I"/Library/Frameworks/R.framework/Versions/3.6/Resources/library/BH/include" -I/usr/local/include -fPIC -Wall -g -O2 -c sortBytes.cpp -o sortBytes.o clang++ -std=gnu++11 -I"/Library/Frameworks/R.framework/Resources/include" -DNDEBUG -I"/Library/Frameworks/R.framework/Versions/3.6/Resources/library/Rcpp/include" -I"/Library/Frameworks/R.framework/Versions/3.6/Resources/library/BH/include" -I/usr/local/include -fPIC -Wall -g -O2 -c uint2double.cpp -o uint2double.o clang++ -std=gnu++11 -I"/Library/Frameworks/R.framework/Resources/include" -DNDEBUG -I"/Library/Frameworks/R.framework/Versions/3.6/Resources/library/Rcpp/include" -I"/Library/Frameworks/R.framework/Versions/3.6/Resources/library/BH/include" -I/usr/local/include -fPIC -Wall -g -O2 -c zeroin.cpp -o zeroin.o clang++ -std=gnu++11 -dynamiclib -Wl,-headerpad_max_install_names -undefined dynamic_lookup -single_module -multiply_defined suppress -L/Library/Frameworks/R.framework/Resources/lib -L/usr/local/lib -o flowCore.so FastLogicle.o Hyperlog.o Logicle.o RcppExports.o biexponential.o convertRawBytes.o fcsTextParse.o hyperlogTransform.o inPolygon.o inPolytope.o logicleTransform.o pairVectorRcppWrap.o poly_centroid.o sortBytes.o uint2double.o zeroin.o -F/Library/Frameworks/R.framework/.. -framework R -Wl,-framework -Wl,CoreFoundation if [ `uname -s` = 'Darwin' ]; then install_name_tool -change /usr/local/clang4/lib/libc++.1.dylib /usr/lib/libc++.1.dylib flowCore.so; fi installing to /Library/Frameworks/R.framework/Versions/3.6/Resources/library/flowCore/libs ** R ** data ** inst ** byte-compile and prepare package for lazy loading ** help *** installing help indices ** building package indices ** installing vignettes ‘HowTo-flowCore.Rnw’ using ‘UTF-8’ ** testing if installed package can be loaded * DONE (flowCore)
flowCore.Rcheck/tests/testthat.Rout
R Under development (unstable) (2018-11-27 r75683) -- "Unsuffered Consequences"
Copyright (C) 2018 The R Foundation for Statistical Computing
Platform: x86_64-apple-darwin15.6.0 (64-bit)
R is free software and comes with ABSOLUTELY NO WARRANTY.
You are welcome to redistribute it under certain conditions.
Type 'license()' or 'licence()' for distribution details.
R is a collaborative project with many contributors.
Type 'contributors()' for more information and
'citation()' on how to cite R or R packages in publications.
Type 'demo()' for some demos, 'help()' for on-line help, or
'help.start()' for an HTML browser interface to help.
Type 'q()' to quit R.
> library(testthat)
> library(flowCore)
>
>
> test_check("flowCore")
Loading required package: BiocGenerics
Loading required package: parallel
Attaching package: 'BiocGenerics'
The following objects are masked from 'package:parallel':
clusterApply, clusterApplyLB, clusterCall, clusterEvalQ,
clusterExport, clusterMap, parApply, parCapply, parLapply,
parLapplyLB, parRapply, parSapply, parSapplyLB
The following object is masked from 'package:flowCore':
normalize
The following objects are masked from 'package:stats':
IQR, mad, sd, var, xtabs
The following objects are masked from 'package:base':
Filter, Find, Map, Position, Reduce, anyDuplicated, append,
as.data.frame, basename, cbind, colMeans, colSums, colnames,
dirname, do.call, duplicated, eval, evalq, get, grep, grepl,
intersect, is.unsorted, lapply, mapply, match, mget, order, paste,
pmax, pmax.int, pmin, pmin.int, rank, rbind, rowMeans, rowSums,
rownames, sapply, setdiff, sort, table, tapply, union, unique,
unsplit, which, which.max, which.min
Welcome to Bioconductor
Vignettes contain introductory material; view with
'browseVignettes()'. To cite Bioconductor, see
'citation("Biobase")', and for packages 'citation("pkgname")'.
orig_channel_name new_channel_name
$P5N B710-A FL1
$P9N V545-A FL1
══ testthat results ═══════════════════════════════════════════════════════════
OK: 316 SKIPPED: 0 FAILED: 0
>
> #devtools::test("˜/rglab/workspace/flowCore")
> #the FCS files are not included in package due to the size , thus only for internal testing
> #test_file("/home/wjiang2/rglab/workspace/flowCore/tests/testthat/IO-testSuite.R")
>
> proc.time()
user system elapsed
15.101 1.986 17.154
flowCore.Rcheck/flowCore-Ex.timings
| name | user | system | elapsed | |
| EHtrans-class | 0.079 | 0.011 | 0.092 | |
| FCSTransTransform | 0.855 | 0.074 | 0.937 | |
| Subset-methods | 0.372 | 0.019 | 0.394 | |
| actionItem-class | 0.002 | 0.000 | 0.003 | |
| arcsinhTransform | 0.078 | 0.009 | 0.086 | |
| asinht-class | 0.037 | 0.005 | 0.042 | |
| asinhtGml2-class | 0.044 | 0.008 | 0.053 | |
| biexponentialTransform | 3.280 | 0.126 | 3.421 | |
| boundaryFilter-class | 0.078 | 0.006 | 0.085 | |
| characterOrNumeric-class | 0.001 | 0.000 | 0.000 | |
| characterOrParameters-class | 0.000 | 0.000 | 0.001 | |
| characterOrTransformation-class | 0.001 | 0.000 | 0.001 | |
| coerce | 0.060 | 0.005 | 0.065 | |
| collapse_desc | 0.661 | 0.066 | 0.732 | |
| compensateActionItem-class | 0.001 | 0.001 | 0.002 | |
| compensateView-class | 0.001 | 0.000 | 0.002 | |
| compensatedParameter-class | 0.148 | 0.010 | 0.158 | |
| compensation-class | 0.311 | 0.037 | 0.348 | |
| decompensate-methods | 0.048 | 0.009 | 0.057 | |
| dg1polynomial-class | 0.025 | 0.002 | 0.027 | |
| each_col | 0.032 | 0.004 | 0.036 | |
| ellipsoidGate-class | 0.061 | 0.004 | 0.064 | |
| exponential-class | 0.031 | 0.003 | 0.035 | |
| expressionFilter-class | 0.127 | 0.013 | 0.140 | |
| fcReference-class | 0.000 | 0.000 | 0.001 | |
| filter-methods | 0.858 | 0.065 | 0.927 | |
| filter-on-methods | 0.233 | 0.026 | 0.265 | |
| filterList-class | 0.007 | 0.001 | 0.008 | |
| filterResult-class | 0.002 | 0.000 | 0.002 | |
| filterResultList-class | 4.020 | 0.214 | 4.264 | |
| filterSummary-class | 0.126 | 0.019 | 0.145 | |
| filterSummaryList-class | 1.208 | 0.094 | 1.305 | |
| filter_keywords | 0.525 | 0.050 | 0.576 | |
| flowFrame-class | 4.394 | 0.328 | 4.758 | |
| flowSet-class | 2.503 | 0.160 | 2.678 | |
| fr_append_cols | 0.598 | 0.056 | 0.655 | |
| fsApply | 0.143 | 0.030 | 0.208 | |
| gateActionItem-class | 0.001 | 0.000 | 0.001 | |
| gateView-class | 0.000 | 0.000 | 0.001 | |
| getIndexSort-methods | 0.027 | 0.001 | 0.028 | |
| hyperlog-class | 1.249 | 0.006 | 1.259 | |
| hyperlogtGml2-class | 0.036 | 0.001 | 0.036 | |
| identifier-methods | 0.029 | 0.001 | 0.029 | |
| inverseLogicleTransform | 0.666 | 0.051 | 0.726 | |
| invsplitscale-class | 0.022 | 0.002 | 0.024 | |
| keyword-methods | 0.620 | 0.044 | 0.666 | |
| kmeansFilter-class | 0.122 | 0.005 | 0.127 | |
| linearTransform | 0.035 | 0.003 | 0.038 | |
| lintGml2-class | 0.025 | 0.003 | 0.029 | |
| lnTransform | 1.118 | 0.078 | 1.197 | |
| logTransform | 0.035 | 0.002 | 0.037 | |
| logarithm-class | 0.022 | 0.002 | 0.024 | |
| logicalFilterResult-class | 0.001 | 0.000 | 0.001 | |
| logicleTransform | 0.637 | 0.080 | 0.719 | |
| logicletGml2-class | 0.048 | 0.002 | 0.049 | |
| logtGml2-class | 0.029 | 0.003 | 0.032 | |
| manyFilterResult-class | 0.001 | 0.000 | 0.001 | |
| markernames | 0.566 | 0.049 | 0.615 | |
| multipleFilterResult-class | 0.001 | 0.001 | 0.001 | |
| norm2Filter-class | 0.120 | 0.012 | 0.131 | |
| normalizeActionItem-class | 0.000 | 0.000 | 0.001 | |
| normalizeView-class | 0.001 | 0.000 | 0.001 | |
| parameters-methods | 0.022 | 0.002 | 0.023 | |
| polygonGate-class | 0.047 | 0.005 | 0.052 | |
| quadGate-class | 0.122 | 0.004 | 0.126 | |
| quadratic-class | 0.029 | 0.002 | 0.033 | |
| quadraticTransform | 0.037 | 0.002 | 0.039 | |
| ratio-class | 0.036 | 0.005 | 0.041 | |
| ratiotGml2-class | 0.026 | 0.000 | 0.027 | |
| read.FCS | 0.071 | 0.002 | 0.073 | |
| read.FCSheader | 0.008 | 0.003 | 0.010 | |
| read.flowSet | 0.082 | 0.005 | 0.088 | |
| rectangleGate-class | 0.068 | 0.003 | 0.070 | |
| rotate_gate | 0.001 | 0.000 | 0.001 | |
| sampleFilter-class | 0.045 | 0.003 | 0.048 | |
| scaleTransform | 0.041 | 0.005 | 0.046 | |
| scale_gate | 0 | 0 | 0 | |
| shift_gate | 0.000 | 0.000 | 0.001 | |
| singleParameterTransform-class | 0.001 | 0.000 | 0.001 | |
| sinht-class | 0.024 | 0.000 | 0.024 | |
| split-methods | 1.103 | 0.081 | 1.185 | |
| splitScaleTransform | 1.103 | 0.082 | 1.189 | |
| splitscale-class | 0.024 | 0.001 | 0.025 | |
| squareroot-class | 0.023 | 0.002 | 0.025 | |
| subsettingActionItem-class | 0.001 | 0.000 | 0.002 | |
| subsettingView-class | 0.001 | 0.000 | 0.001 | |
| timeFilter-class | 1.152 | 0.077 | 1.230 | |
| transform-class | 0.001 | 0.001 | 0.002 | |
| transformActionItem-class | 0.001 | 0.000 | 0.002 | |
| transformFilter-class | 0.105 | 0.004 | 0.108 | |
| transformList-class | 0.617 | 0.065 | 0.682 | |
| transformMap-class | 0.001 | 0.000 | 0.001 | |
| transformView-class | 0.001 | 0.000 | 0.002 | |
| transform_gate | 0.001 | 0.000 | 0.001 | |
| truncateTransform | 0.037 | 0.002 | 0.040 | |
| unitytransform-class | 0.029 | 0.010 | 0.038 | |
| view-class | 0.001 | 0.000 | 0.001 | |
| workFlow-class | 0.001 | 0.001 | 0.002 | |
| write.FCS | 0.050 | 0.003 | 0.054 | |
| write.flowSet | 0.701 | 0.062 | 0.764 | |