| Back to Multiple platform build/check report for BioC 3.9 |
|
This page was generated on 2019-04-09 12:18:39 -0400 (Tue, 09 Apr 2019).
| Package 551/1703 | Hostname | OS / Arch | INSTALL | BUILD | CHECK | BUILD BIN | ||||||
| flowCL 1.21.1 Justin Meskas
| malbec2 | Linux (Ubuntu 18.04.2 LTS) / x86_64 | OK | OK | OK | |||||||
| tokay2 | Windows Server 2012 R2 Standard / x64 | OK | OK | OK | [ OK ] | |||||||
| celaya2 | OS X 10.11.6 El Capitan / x86_64 | OK | OK | OK | OK | |||||||
| merida2 | OS X 10.11.6 El Capitan / x86_64 | OK | OK | OK | OK |
| Package: flowCL |
| Version: 1.21.1 |
| Command: rm -rf flowCL.buildbin-libdir && mkdir flowCL.buildbin-libdir && C:\Users\biocbuild\bbs-3.9-bioc\R\bin\R.exe CMD INSTALL --merge-multiarch --build --library=flowCL.buildbin-libdir flowCL_1.21.1.tar.gz |
| StartedAt: 2019-04-09 07:54:58 -0400 (Tue, 09 Apr 2019) |
| EndedAt: 2019-04-09 07:55:46 -0400 (Tue, 09 Apr 2019) |
| EllapsedTime: 48.5 seconds |
| RetCode: 0 |
| Status: OK |
| PackageFile: flowCL_1.21.1.zip |
| PackageFileSize: 463.6 KiB |
##############################################################################
##############################################################################
###
### Running command:
###
### rm -rf flowCL.buildbin-libdir && mkdir flowCL.buildbin-libdir && C:\Users\biocbuild\bbs-3.9-bioc\R\bin\R.exe CMD INSTALL --merge-multiarch --build --library=flowCL.buildbin-libdir flowCL_1.21.1.tar.gz
###
##############################################################################
##############################################################################
install for i386
* installing *source* package 'flowCL' ...
** R
** data
** inst
** byte-compile and prepare package for lazy loading
** help
*** installing help indices
converting help for package 'flowCL'
finding HTML links ... done
flowCL-package html
flowCL html
flowCL_archive html
test.flowCL.connection html
** building package indices
** installing vignettes
** testing if installed package can be loaded from temporary location
** testing if installed package can be loaded from final location
** testing if installed package keeps a record of temporary installation path
install for x64
* installing *source* package 'flowCL' ...
** testing if installed package can be loaded
* MD5 sums
packaged installation of 'flowCL' as flowCL_1.21.1.zip
* DONE (flowCL)