| Back to Multiple platform build/check report for BioC 3.9 |
|
This page was generated on 2019-04-09 12:19:20 -0400 (Tue, 09 Apr 2019).
| Package 528/1703 | Hostname | OS / Arch | INSTALL | BUILD | CHECK | BUILD BIN | ||||||
| fastLiquidAssociation 1.19.0 Tina Gunderson
| malbec2 | Linux (Ubuntu 18.04.2 LTS) / x86_64 | OK | OK | WARNINGS | |||||||
| tokay2 | Windows Server 2012 R2 Standard / x64 | OK | OK | WARNINGS | [ OK ] | |||||||
| celaya2 | OS X 10.11.6 El Capitan / x86_64 | OK | OK | WARNINGS | OK | |||||||
| merida2 | OS X 10.11.6 El Capitan / x86_64 | OK | OK | WARNINGS | OK |
| Package: fastLiquidAssociation |
| Version: 1.19.0 |
| Command: rm -rf fastLiquidAssociation.buildbin-libdir && mkdir fastLiquidAssociation.buildbin-libdir && C:\Users\biocbuild\bbs-3.9-bioc\R\bin\R.exe CMD INSTALL --merge-multiarch --build --library=fastLiquidAssociation.buildbin-libdir fastLiquidAssociation_1.19.0.tar.gz |
| StartedAt: 2019-04-09 07:53:29 -0400 (Tue, 09 Apr 2019) |
| EndedAt: 2019-04-09 07:54:16 -0400 (Tue, 09 Apr 2019) |
| EllapsedTime: 47.1 seconds |
| RetCode: 0 |
| Status: OK |
| PackageFile: fastLiquidAssociation_1.19.0.zip |
| PackageFileSize: 543.8 KiB |
##############################################################################
##############################################################################
###
### Running command:
###
### rm -rf fastLiquidAssociation.buildbin-libdir && mkdir fastLiquidAssociation.buildbin-libdir && C:\Users\biocbuild\bbs-3.9-bioc\R\bin\R.exe CMD INSTALL --merge-multiarch --build --library=fastLiquidAssociation.buildbin-libdir fastLiquidAssociation_1.19.0.tar.gz
###
##############################################################################
##############################################################################
install for i386
* installing *source* package 'fastLiquidAssociation' ...
** R
** data
** inst
** byte-compile and prepare package for lazy loading
** help
*** installing help indices
converting help for package 'fastLiquidAssociation'
finding HTML links ... done
fastLiquidAssociation-package html
fastMLA-methods html
finding level-2 HTML links ... done
Rd warning: C:/Users/biocbuild/bbs-3.9-bioc/tmpdir/RtmpSSETnp/R.INSTALL2d541a787f84/fastLiquidAssociation/man/fastMLA-methods.Rd:59: missing link 'WGCNA'
fastboots.GLA-methods html
mass.CNM-methods html
testmat html
** building package indices
** installing vignettes
** testing if installed package can be loaded from temporary location
** testing if installed package can be loaded from final location
** testing if installed package keeps a record of temporary installation path
install for x64
* installing *source* package 'fastLiquidAssociation' ...
** testing if installed package can be loaded
* MD5 sums
packaged installation of 'fastLiquidAssociation' as fastLiquidAssociation_1.19.0.zip
* DONE (fastLiquidAssociation)