| Back to Multiple platform build/check report for BioC 3.9 |
|
This page was generated on 2019-04-09 12:45:35 -0400 (Tue, 09 Apr 2019).
| Package 513/1703 | Hostname | OS / Arch | INSTALL | BUILD | CHECK | BUILD BIN | ||||||
| evaluomeR 0.99.84 José Antonio Bernabé-Díaz
| malbec2 | Linux (Ubuntu 18.04.2 LTS) / x86_64 | OK | OK | OK | |||||||
| tokay2 | Windows Server 2012 R2 Standard / x64 | [ OK ] | OK | OK | OK | |||||||
| celaya2 | OS X 10.11.6 El Capitan / x86_64 | OK | OK | OK | OK | |||||||
| merida2 | OS X 10.11.6 El Capitan / x86_64 | OK | OK | OK | OK |
| Package: evaluomeR |
| Version: 0.99.84 |
| Command: C:\cygwin\bin\curl.exe -O https://malbec2.bioconductor.org/BBS/3.9/bioc/src/contrib/evaluomeR_0.99.84.tar.gz && rm -rf evaluomeR.buildbin-libdir && mkdir evaluomeR.buildbin-libdir && C:\Users\biocbuild\bbs-3.9-bioc\R\bin\R.exe CMD INSTALL --merge-multiarch --build --library=evaluomeR.buildbin-libdir evaluomeR_0.99.84.tar.gz && C:\Users\biocbuild\bbs-3.9-bioc\R\bin\R.exe CMD INSTALL evaluomeR_0.99.84.zip && rm evaluomeR_0.99.84.tar.gz evaluomeR_0.99.84.zip |
| StartedAt: 2019-04-08 19:49:27 -0400 (Mon, 08 Apr 2019) |
| EndedAt: 2019-04-08 19:50:32 -0400 (Mon, 08 Apr 2019) |
| EllapsedTime: 64.7 seconds |
| RetCode: 0 |
| Status: OK |
##############################################################################
##############################################################################
###
### Running command:
###
### C:\cygwin\bin\curl.exe -O https://malbec2.bioconductor.org/BBS/3.9/bioc/src/contrib/evaluomeR_0.99.84.tar.gz && rm -rf evaluomeR.buildbin-libdir && mkdir evaluomeR.buildbin-libdir && C:\Users\biocbuild\bbs-3.9-bioc\R\bin\R.exe CMD INSTALL --merge-multiarch --build --library=evaluomeR.buildbin-libdir evaluomeR_0.99.84.tar.gz && C:\Users\biocbuild\bbs-3.9-bioc\R\bin\R.exe CMD INSTALL evaluomeR_0.99.84.zip && rm evaluomeR_0.99.84.tar.gz evaluomeR_0.99.84.zip
###
##############################################################################
##############################################################################
% Total % Received % Xferd Average Speed Time Time Time Current
Dload Upload Total Spent Left Speed
0 0 0 0 0 0 0 0 --:--:-- --:--:-- --:--:-- 0
100 82635 100 82635 0 0 606k 0 --:--:-- --:--:-- --:--:-- 645k
install for i386
* installing *source* package 'evaluomeR' ...
** R
** data
*** moving datasets to lazyload DB
** inst
** byte-compile and prepare package for lazy loading
** help
Loading required namespace: evaluomeR
*** installing help indices
converting help for package 'evaluomeR'
finding HTML links ... done
bioMetrics html
getDataQualityRange html
finding level-2 HTML links ... done
metricsCorrelations html
ontMetrics html
quality html
qualityRange html
rnaMetrics html
stability html
stabilityRange html
** building package indices
** installing vignettes
** testing if installed package can be loaded from temporary location
** testing if installed package can be loaded from final location
** testing if installed package keeps a record of temporary installation path
install for x64
* installing *source* package 'evaluomeR' ...
** testing if installed package can be loaded
* MD5 sums
packaged installation of 'evaluomeR' as evaluomeR_0.99.84.zip
* DONE (evaluomeR)
* installing to library 'C:/Users/biocbuild/bbs-3.9-bioc/R/library'
package 'evaluomeR' successfully unpacked and MD5 sums checked