| Back to Multiple platform build/check report for BioC 3.9 |
|
This page was generated on 2019-04-09 12:12:26 -0400 (Tue, 09 Apr 2019).
| Package 502/1703 | Hostname | OS / Arch | INSTALL | BUILD | CHECK | BUILD BIN | ||||||
| epivizr 2.13.0 Hector Corrada Bravo
| malbec2 | Linux (Ubuntu 18.04.2 LTS) / x86_64 | OK | OK | OK | |||||||
| tokay2 | Windows Server 2012 R2 Standard / x64 | OK | OK | WARNINGS | [ OK ] | |||||||
| celaya2 | OS X 10.11.6 El Capitan / x86_64 | OK | OK | OK | OK | |||||||
| merida2 | OS X 10.11.6 El Capitan / x86_64 | OK | OK | OK | OK |
| Package: epivizr |
| Version: 2.13.0 |
| Command: rm -rf epivizr.buildbin-libdir && mkdir epivizr.buildbin-libdir && C:\Users\biocbuild\bbs-3.9-bioc\R\bin\R.exe CMD INSTALL --merge-multiarch --build --library=epivizr.buildbin-libdir epivizr_2.13.0.tar.gz |
| StartedAt: 2019-04-09 07:51:55 -0400 (Tue, 09 Apr 2019) |
| EndedAt: 2019-04-09 07:53:00 -0400 (Tue, 09 Apr 2019) |
| EllapsedTime: 65.0 seconds |
| RetCode: 0 |
| Status: OK |
| PackageFile: epivizr_2.13.0.zip |
| PackageFileSize: 1.539 MiB |
##############################################################################
##############################################################################
###
### Running command:
###
### rm -rf epivizr.buildbin-libdir && mkdir epivizr.buildbin-libdir && C:\Users\biocbuild\bbs-3.9-bioc\R\bin\R.exe CMD INSTALL --merge-multiarch --build --library=epivizr.buildbin-libdir epivizr_2.13.0.tar.gz
###
##############################################################################
##############################################################################
install for i386
* installing *source* package 'epivizr' ...
** R
** data
** inst
** byte-compile and prepare package for lazy loading
** help
*** installing help indices
converting help for package 'epivizr'
finding HTML links ... done
EpivizApp-class html
finding level-2 HTML links ... done
Rd warning: C:/Users/biocbuild/bbs-3.9-bioc/tmpdir/RtmpSexqb9/R.INSTALL1c7063f07a7e/epivizr/man/EpivizApp-class.Rd:14: file link 'EpivizServer' in package 'epivizrServer' does not exist and so has been treated as a topic
Rd warning: C:/Users/biocbuild/bbs-3.9-bioc/tmpdir/RtmpSexqb9/R.INSTALL1c7063f07a7e/epivizr/man/EpivizApp-class.Rd:16: file link 'EpivizDataMgr' in package 'epivizrData' does not exist and so has been treated as a topic
Rd warning: C:/Users/biocbuild/bbs-3.9-bioc/tmpdir/RtmpSexqb9/R.INSTALL1c7063f07a7e/epivizr/man/EpivizApp-class.Rd:33: file link 'EpivizData' in package 'epivizrData' does not exist and so has been treated as a topic
Rd warning: C:/Users/biocbuild/bbs-3.9-bioc/tmpdir/RtmpSexqb9/R.INSTALL1c7063f07a7e/epivizr/man/EpivizApp-class.Rd:57: file link 'EpivizData' in package 'epivizrData' does not exist and so has been treated as a topic
Rd warning: C:/Users/biocbuild/bbs-3.9-bioc/tmpdir/RtmpSexqb9/R.INSTALL1c7063f07a7e/epivizr/man/EpivizApp-class.Rd:58: file link 'EpivizData' in package 'epivizrData' does not exist and so has been treated as a topic
Rd warning: C:/Users/biocbuild/bbs-3.9-bioc/tmpdir/RtmpSexqb9/R.INSTALL1c7063f07a7e/epivizr/man/EpivizApp-class.Rd:67: file link 'EpivizData' in package 'epivizrData' does not exist and so has been treated as a topic
EpivizChart-class html
EpivizChartMgr-class html
Rd warning: C:/Users/biocbuild/bbs-3.9-bioc/tmpdir/RtmpSexqb9/R.INSTALL1c7063f07a7e/epivizr/man/EpivizChartMgr-class.Rd:33: file link 'EpivizServer' in package 'epivizrServer' does not exist and so has been treated as a topic
Rd warning: C:/Users/biocbuild/bbs-3.9-bioc/tmpdir/RtmpSexqb9/R.INSTALL1c7063f07a7e/epivizr/man/EpivizChartMgr-class.Rd:55: file link 'EpivizData' in package 'epivizrData' does not exist and so has been treated as a topic
Rd warning: C:/Users/biocbuild/bbs-3.9-bioc/tmpdir/RtmpSexqb9/R.INSTALL1c7063f07a7e/epivizr/man/EpivizChartMgr-class.Rd:56: file link 'EpivizData' in package 'epivizrData' does not exist and so has been treated as a topic
Rd warning: C:/Users/biocbuild/bbs-3.9-bioc/tmpdir/RtmpSexqb9/R.INSTALL1c7063f07a7e/epivizr/man/EpivizChartMgr-class.Rd:60: file link 'EpivizData' in package 'epivizrData' does not exist and so has been treated as a topic
Rd warning: C:/Users/biocbuild/bbs-3.9-bioc/tmpdir/RtmpSexqb9/R.INSTALL1c7063f07a7e/epivizr/man/EpivizChartMgr-class.Rd:121: file link 'EpivizData' in package 'epivizrData' does not exist and so has been treated as a topic
Rd warning: C:/Users/biocbuild/bbs-3.9-bioc/tmpdir/RtmpSexqb9/R.INSTALL1c7063f07a7e/epivizr/man/EpivizChartMgr-class.Rd:126: file link 'EpivizMeasurement' in package 'epivizrData' does not exist and so has been treated as a topic
Rd warning: C:/Users/biocbuild/bbs-3.9-bioc/tmpdir/RtmpSexqb9/R.INSTALL1c7063f07a7e/epivizr/man/EpivizChartMgr-class.Rd:128: file link 'EpivizData' in package 'epivizrData' does not exist and so has been treated as a topic
restartEpiviz html
show-EpivizChart-method html
startEpiviz html
tcga_colon_blocks html
Rd warning: C:/Users/biocbuild/bbs-3.9-bioc/tmpdir/RtmpSexqb9/R.INSTALL1c7063f07a7e/epivizr/man/tcga_colon_blocks.Rd:7: file link 'GRanges' in package 'GenomicRanges' does not exist and so has been treated as a topic
Rd warning: C:/Users/biocbuild/bbs-3.9-bioc/tmpdir/RtmpSexqb9/R.INSTALL1c7063f07a7e/epivizr/man/tcga_colon_blocks.Rd:29: file link 'GRanges' in package 'GenomicRanges' does not exist and so has been treated as a topic
tcga_colon_curves html
Rd warning: C:/Users/biocbuild/bbs-3.9-bioc/tmpdir/RtmpSexqb9/R.INSTALL1c7063f07a7e/epivizr/man/tcga_colon_curves.Rd:7: file link 'GRanges' in package 'GenomicRanges' does not exist and so has been treated as a topic
Rd warning: C:/Users/biocbuild/bbs-3.9-bioc/tmpdir/RtmpSexqb9/R.INSTALL1c7063f07a7e/epivizr/man/tcga_colon_curves.Rd:25: file link 'GRanges' in package 'GenomicRanges' does not exist and so has been treated as a topic
tcga_colon_expression html
Rd warning: C:/Users/biocbuild/bbs-3.9-bioc/tmpdir/RtmpSexqb9/R.INSTALL1c7063f07a7e/epivizr/man/tcga_colon_expression.Rd:23: file link 'RangedSummarizedExperiment' in package 'SummarizedExperiment' does not exist and so has been treated as a topic
Rd warning: C:/Users/biocbuild/bbs-3.9-bioc/tmpdir/RtmpSexqb9/R.INSTALL1c7063f07a7e/epivizr/man/tcga_colon_expression.Rd:7: file link 'RangedSummarizedExperiment' in package 'SummarizedExperiment' does not exist and so has been treated as a topic
Rd warning: C:/Users/biocbuild/bbs-3.9-bioc/tmpdir/RtmpSexqb9/R.INSTALL1c7063f07a7e/epivizr/man/tcga_colon_expression.Rd:20: file link 'RangedSummarizedExperiment' in package 'SummarizedExperiment' does not exist and so has been treated as a topic
** building package indices
** installing vignettes
** testing if installed package can be loaded from temporary location
** testing if installed package can be loaded from final location
** testing if installed package keeps a record of temporary installation path
install for x64
* installing *source* package 'epivizr' ...
** testing if installed package can be loaded
* MD5 sums
packaged installation of 'epivizr' as epivizr_2.13.0.zip
* DONE (epivizr)