| Back to Multiple platform build/check report for BioC 3.9 |
|
This page was generated on 2019-04-09 12:43:23 -0400 (Tue, 09 Apr 2019).
| Package 500/1703 | Hostname | OS / Arch | INSTALL | BUILD | CHECK | BUILD BIN | ||||||
| epihet 0.99.8 Xiaowen Chen
| malbec2 | Linux (Ubuntu 18.04.2 LTS) / x86_64 | OK | OK | OK | |||||||
| tokay2 | Windows Server 2012 R2 Standard / x64 | OK | OK | OK | [ OK ] | |||||||
| celaya2 | OS X 10.11.6 El Capitan / x86_64 | OK | OK | OK | OK | |||||||
| merida2 | OS X 10.11.6 El Capitan / x86_64 | OK | OK | OK | OK |
| Package: epihet |
| Version: 0.99.8 |
| Command: rm -rf epihet.buildbin-libdir && mkdir epihet.buildbin-libdir && C:\Users\biocbuild\bbs-3.9-bioc\R\bin\R.exe CMD INSTALL --merge-multiarch --build --library=epihet.buildbin-libdir epihet_0.99.8.tar.gz |
| StartedAt: 2019-04-09 07:51:47 -0400 (Tue, 09 Apr 2019) |
| EndedAt: 2019-04-09 07:52:23 -0400 (Tue, 09 Apr 2019) |
| EllapsedTime: 35.4 seconds |
| RetCode: 0 |
| Status: OK |
| PackageFile: epihet_0.99.8.zip |
| PackageFileSize: 887.7 KiB |
##############################################################################
##############################################################################
###
### Running command:
###
### rm -rf epihet.buildbin-libdir && mkdir epihet.buildbin-libdir && C:\Users\biocbuild\bbs-3.9-bioc\R\bin\R.exe CMD INSTALL --merge-multiarch --build --library=epihet.buildbin-libdir epihet_0.99.8.tar.gz
###
##############################################################################
##############################################################################
install for i386
* installing *source* package 'epihet' ...
** R
** data
** inst
** byte-compile and prepare package for lazy loading
** help
*** installing help indices
converting help for package 'epihet'
finding HTML links ... done
compMatrix html
data html
diffHet html
epiBox html
epiMA html
epiMap html
epiNetwork html
epiPCA html
epiPathway html
epiTSNE html
jaccard html
makeGR html
moduleAnno html
moduleSim html
moduleVisual html
readGR html
shannon html
splitn html
summarize html
userobj html
** building package indices
** installing vignettes
** testing if installed package can be loaded from temporary location
** testing if installed package can be loaded from final location
** testing if installed package keeps a record of temporary installation path
install for x64
* installing *source* package 'epihet' ...
** testing if installed package can be loaded
* MD5 sums
packaged installation of 'epihet' as epihet_0.99.8.zip
* DONE (epihet)