| Back to Multiple platform build/check report for BioC 3.9 | 
 | 
This page was generated on 2019-04-09 12:24:04 -0400 (Tue, 09 Apr 2019).
| Package 478/1703 | Hostname | OS / Arch | INSTALL | BUILD | CHECK | BUILD BIN | ||||||
| edge 2.15.0 John D. Storey 
 | malbec2 | Linux (Ubuntu 18.04.2 LTS) / x86_64 | OK | OK | OK |  | ||||||
| tokay2 | Windows Server 2012 R2 Standard / x64 | OK | OK | OK | [ OK ] |  | ||||||
| celaya2 | OS X 10.11.6 El Capitan / x86_64 | OK | OK | OK | OK |  | ||||||
| merida2 | OS X 10.11.6 El Capitan / x86_64 | OK | OK | OK | OK | 
| Package: edge | 
| Version: 2.15.0 | 
| Command: rm -rf edge.buildbin-libdir && mkdir edge.buildbin-libdir && C:\Users\biocbuild\bbs-3.9-bioc\R\bin\R.exe CMD INSTALL --merge-multiarch --build --library=edge.buildbin-libdir edge_2.15.0.tar.gz | 
| StartedAt: 2019-04-09 07:50:29 -0400 (Tue, 09 Apr 2019) | 
| EndedAt: 2019-04-09 07:51:06 -0400 (Tue, 09 Apr 2019) | 
| EllapsedTime: 36.4 seconds | 
| RetCode: 0 | 
| Status: OK | 
| PackageFile: edge_2.15.0.zip | 
| PackageFileSize: 1.541 MiB | 
##############################################################################
##############################################################################
###
### Running command:
###
###   rm -rf edge.buildbin-libdir && mkdir edge.buildbin-libdir && C:\Users\biocbuild\bbs-3.9-bioc\R\bin\R.exe CMD INSTALL --merge-multiarch --build --library=edge.buildbin-libdir edge_2.15.0.tar.gz
###
##############################################################################
##############################################################################
install for i386
* installing *source* package 'edge' ...
** libs
C:/Rtools/mingw_32/bin/gcc  -I"C:/Users/BIOCBU˜1/BBS-3˜1.9-B/R/include" -DNDEBUG     -I"C:/extsoft/include"     -O3 -Wall  -std=gnu99 -mtune=generic -c edge-init.c -o edge-init.o
C:/Rtools/mingw_32/bin/gcc  -I"C:/Users/BIOCBU˜1/BBS-3˜1.9-B/R/include" -DNDEBUG     -I"C:/extsoft/include"     -O3 -Wall  -std=gnu99 -mtune=generic -c edgeKLODP.c -o edgeKLODP.o
edgeKLODP.c: In function 'odpScoreCluster':
edgeKLODP.c:11:19: warning: 'middle' may be used uninitialized in this function [-Wmaybe-uninitialized]
   double *first, *middle;
                   ^
C:/Rtools/mingw_32/bin/gcc -shared -s -static-libgcc -o edge.dll tmp.def edge-init.o edgeKLODP.o -LC:/extsoft/lib/i386 -LC:/extsoft/lib -LC:/Users/BIOCBU˜1/BBS-3˜1.9-B/R/bin/i386 -lR
installing to C:/Users/biocbuild/bbs-3.9-bioc/meat/edge.buildbin-libdir/00LOCK-edge/00new/edge/libs/i386
** R
** data
*** moving datasets to lazyload DB
** inst
** byte-compile and prepare package for lazy loading
** help
*** installing help indices
  converting help for package 'edge'
    finding HTML links ... done
    apply_jackstraw                         html  
    finding level-2 HTML links ... done
    apply_qvalue                            html  
    apply_snm                               html  
    apply_sva                               html  
    betaCoef                                html  
    build_models                            html  
    build_study                             html  
    deFit-class                             html  
    deSet-class                             html  
    deSet                                   html  
    edge                                    html  
    endotoxin                               html  
    fitFull                                 html  
    fitNull                                 html  
    fit_models                              html  
    fullMatrix                              html  
    fullModel                               html  
    gibson                                  html  
    individual                              html  
    kidney                                  html  
    kl_clust                                html  
    lrt                                     html  
    nullMatrix                              html  
    nullModel                               html  
    odp                                     html  
    qvalueObj                               html  
    resFull                                 html  
    resNull                                 html  
    sType                                   html  
    show                                    html  
    summary                                 html  
** building package indices
** installing vignettes
** testing if installed package can be loaded from temporary location
** testing if installed package can be loaded from final location
** testing if installed package keeps a record of temporary installation path
install for x64
* installing *source* package 'edge' ...
** libs
C:/Rtools/mingw_64/bin/gcc  -I"C:/Users/BIOCBU˜1/BBS-3˜1.9-B/R/include" -DNDEBUG     -I"C:/extsoft/include"     -O2 -Wall  -std=gnu99 -mtune=generic -c edge-init.c -o edge-init.o
C:/Rtools/mingw_64/bin/gcc  -I"C:/Users/BIOCBU˜1/BBS-3˜1.9-B/R/include" -DNDEBUG     -I"C:/extsoft/include"     -O2 -Wall  -std=gnu99 -mtune=generic -c edgeKLODP.c -o edgeKLODP.o
edgeKLODP.c: In function 'odpScoreCluster':
edgeKLODP.c:11:19: warning: 'middle' may be used uninitialized in this function [-Wmaybe-uninitialized]
   double *first, *middle;
                   ^
C:/Rtools/mingw_64/bin/gcc -shared -s -static-libgcc -o edge.dll tmp.def edge-init.o edgeKLODP.o -LC:/extsoft/lib/x64 -LC:/extsoft/lib -LC:/Users/BIOCBU˜1/BBS-3˜1.9-B/R/bin/x64 -lR
installing to C:/Users/biocbuild/bbs-3.9-bioc/meat/edge.buildbin-libdir/edge/libs/x64
** testing if installed package can be loaded
* MD5 sums
packaged installation of 'edge' as edge_2.15.0.zip
* DONE (edge)