| Back to Multiple platform build/check report for BioC 3.9 | 
 | 
This page was generated on 2019-04-09 13:32:04 -0400 (Tue, 09 Apr 2019).
| Package 464/1703 | Hostname | OS / Arch | INSTALL | BUILD | CHECK | BUILD BIN | ||||||
| dupRadar 1.13.1 Sergi Sayols 
 | malbec2 | Linux (Ubuntu 18.04.2 LTS) / x86_64 | OK | OK | OK |  | ||||||
| tokay2 | Windows Server 2012 R2 Standard / x64 | ...NOT SUPPORTED... | ||||||||||
| celaya2 | OS X 10.11.6 El Capitan / x86_64 | OK | OK | OK | OK |  | ||||||
| merida2 | OS X 10.11.6 El Capitan / x86_64 | OK | OK | OK | [ OK ] | |||||||
| Package: dupRadar | 
| Version: 1.13.1 | 
| Command: rm -rf dupRadar.buildbin-libdir && mkdir dupRadar.buildbin-libdir && /Users/biocbuild/BBS/utils/build-universal.sh dupRadar_1.13.1.tar.gz /Library/Frameworks/R.framework/Versions/Current/Resources/bin/R dupRadar.buildbin-libdir | 
| StartedAt: 2019-04-09 05:13:15 -0400 (Tue, 09 Apr 2019) | 
| EndedAt: 2019-04-09 05:14:30 -0400 (Tue, 09 Apr 2019) | 
| EllapsedTime: 75.0 seconds | 
| RetCode: 0 | 
| Status: OK | 
| PackageFile: dupRadar_1.13.1.tgz | 
| PackageFileSize: 5.575 MiB | 
############################################################################## ############################################################################## ### ### Running command: ### ### rm -rf dupRadar.buildbin-libdir && mkdir dupRadar.buildbin-libdir && /Users/biocbuild/BBS/utils/build-universal.sh dupRadar_1.13.1.tar.gz /Library/Frameworks/R.framework/Versions/Current/Resources/bin/R dupRadar.buildbin-libdir ### ############################################################################## ############################################################################## >>>>>>> >>>>>>> INSTALLATION WITH 'R CMD INSTALL --preclean --no-multiarch --library=dupRadar.buildbin-libdir dupRadar_1.13.1.tar.gz' >>>>>>> * installing *source* package ‘dupRadar’ ... ** R ** data *** moving datasets to lazyload DB ** inst ** byte-compile and prepare package for lazy loading ** help *** installing help indices ** building package indices ** installing vignettes ** testing if installed package can be loaded * DONE (dupRadar)