| Back to Multiple platform build/check report for BioC 3.9 |
|
This page was generated on 2019-04-09 12:37:04 -0400 (Tue, 09 Apr 2019).
| Package 425/1703 | Hostname | OS / Arch | INSTALL | BUILD | CHECK | BUILD BIN | ||||||
| diffcoexp 1.3.1 Wenbin Wei
| malbec2 | Linux (Ubuntu 18.04.2 LTS) / x86_64 | OK | OK | OK | |||||||
| tokay2 | Windows Server 2012 R2 Standard / x64 | [ OK ] | OK | OK | OK | |||||||
| celaya2 | OS X 10.11.6 El Capitan / x86_64 | OK | OK | OK | OK | |||||||
| merida2 | OS X 10.11.6 El Capitan / x86_64 | OK | OK | OK | OK |
| Package: diffcoexp |
| Version: 1.3.1 |
| Command: C:\cygwin\bin\curl.exe -O https://malbec2.bioconductor.org/BBS/3.9/bioc/src/contrib/diffcoexp_1.3.1.tar.gz && rm -rf diffcoexp.buildbin-libdir && mkdir diffcoexp.buildbin-libdir && C:\Users\biocbuild\bbs-3.9-bioc\R\bin\R.exe CMD INSTALL --merge-multiarch --build --library=diffcoexp.buildbin-libdir diffcoexp_1.3.1.tar.gz && C:\Users\biocbuild\bbs-3.9-bioc\R\bin\R.exe CMD INSTALL diffcoexp_1.3.1.zip && rm diffcoexp_1.3.1.tar.gz diffcoexp_1.3.1.zip |
| StartedAt: 2019-04-08 19:48:06 -0400 (Mon, 08 Apr 2019) |
| EndedAt: 2019-04-08 19:48:59 -0400 (Mon, 08 Apr 2019) |
| EllapsedTime: 53.2 seconds |
| RetCode: 0 |
| Status: OK |
##############################################################################
##############################################################################
###
### Running command:
###
### C:\cygwin\bin\curl.exe -O https://malbec2.bioconductor.org/BBS/3.9/bioc/src/contrib/diffcoexp_1.3.1.tar.gz && rm -rf diffcoexp.buildbin-libdir && mkdir diffcoexp.buildbin-libdir && C:\Users\biocbuild\bbs-3.9-bioc\R\bin\R.exe CMD INSTALL --merge-multiarch --build --library=diffcoexp.buildbin-libdir diffcoexp_1.3.1.tar.gz && C:\Users\biocbuild\bbs-3.9-bioc\R\bin\R.exe CMD INSTALL diffcoexp_1.3.1.zip && rm diffcoexp_1.3.1.tar.gz diffcoexp_1.3.1.zip
###
##############################################################################
##############################################################################
% Total % Received % Xferd Average Speed Time Time Time Current
Dload Upload Total Spent Left Speed
0 0 0 0 0 0 0 0 --:--:-- --:--:-- --:--:-- 0
100 41777 100 41777 0 0 723k 0 --:--:-- --:--:-- --:--:-- 832k
install for i386
* installing *source* package 'diffcoexp' ...
** R
** data
*** moving datasets to lazyload DB
** inst
** byte-compile and prepare package for lazy loading
==========================================================================
*
* Package WGCNA 1.66 loaded.
*
* Important note: It appears that your system supports multi-threading,
* but it is not enabled within WGCNA in R.
* To allow multi-threading within WGCNA with all available cores, use
*
* allowWGCNAThreads()
*
* within R. Use disableWGCNAThreads() to disable threading if necessary.
* Alternatively, set the following environment variable on your system:
*
* ALLOW_WGCNA_THREADS=<number_of_processors>
*
* for example
*
* ALLOW_WGCNA_THREADS=40
*
* To set the environment variable in linux bash shell, type
*
* export ALLOW_WGCNA_THREADS=40
*
* before running R. Other operating systems or shells will
* have a similar command to achieve the same aim.
*
==========================================================================
** help
*** installing help indices
converting help for package 'diffcoexp'
finding HTML links ... done
coexpr html
comparecor html
diffcoexp html
exprs.1 html
exprs.2 html
** building package indices
** installing vignettes
** testing if installed package can be loaded from temporary location
==========================================================================
*
* Package WGCNA 1.66 loaded.
*
* Important note: It appears that your system supports multi-threading,
* but it is not enabled within WGCNA in R.
* To allow multi-threading within WGCNA with all available cores, use
*
* allowWGCNAThreads()
*
* within R. Use disableWGCNAThreads() to disable threading if necessary.
* Alternatively, set the following environment variable on your system:
*
* ALLOW_WGCNA_THREADS=<number_of_processors>
*
* for example
*
* ALLOW_WGCNA_THREADS=40
*
* To set the environment variable in linux bash shell, type
*
* export ALLOW_WGCNA_THREADS=40
*
* before running R. Other operating systems or shells will
* have a similar command to achieve the same aim.
*
==========================================================================
** testing if installed package can be loaded from final location
==========================================================================
*
* Package WGCNA 1.66 loaded.
*
* Important note: It appears that your system supports multi-threading,
* but it is not enabled within WGCNA in R.
* To allow multi-threading within WGCNA with all available cores, use
*
* allowWGCNAThreads()
*
* within R. Use disableWGCNAThreads() to disable threading if necessary.
* Alternatively, set the following environment variable on your system:
*
* ALLOW_WGCNA_THREADS=<number_of_processors>
*
* for example
*
* ALLOW_WGCNA_THREADS=40
*
* To set the environment variable in linux bash shell, type
*
* export ALLOW_WGCNA_THREADS=40
*
* before running R. Other operating systems or shells will
* have a similar command to achieve the same aim.
*
==========================================================================
** testing if installed package keeps a record of temporary installation path
install for x64
* installing *source* package 'diffcoexp' ...
** testing if installed package can be loaded
==========================================================================
*
* Package WGCNA 1.66 loaded.
*
* Important note: It appears that your system supports multi-threading,
* but it is not enabled within WGCNA in R.
* To allow multi-threading within WGCNA with all available cores, use
*
* allowWGCNAThreads()
*
* within R. Use disableWGCNAThreads() to disable threading if necessary.
* Alternatively, set the following environment variable on your system:
*
* ALLOW_WGCNA_THREADS=<number_of_processors>
*
* for example
*
* ALLOW_WGCNA_THREADS=40
*
* To set the environment variable in linux bash shell, type
*
* export ALLOW_WGCNA_THREADS=40
*
* before running R. Other operating systems or shells will
* have a similar command to achieve the same aim.
*
==========================================================================
* MD5 sums
packaged installation of 'diffcoexp' as diffcoexp_1.3.1.zip
* DONE (diffcoexp)
* installing to library 'C:/Users/biocbuild/bbs-3.9-bioc/R/library'
package 'diffcoexp' successfully unpacked and MD5 sums checked